Index of /checkResults/3.14/bioc-LATEST/cageminer/raw-results

[ICO]NameLast modifiedSizeDescription

[DIR]Parent Directory  -  
[   ]info.dcf22-Jan-2022 03:07 298  
[DIR]machv2/22-Jan-2022 03:07 -  
[DIR]nebbiolo2/22-Jan-2022 03:04 -  
[DIR]tokay2/22-Jan-2022 03:06 -