Name | Last modified | Size | Description | |
---|---|---|---|---|
Parent Directory | - | |||
buildbin-out.txt | 14-Apr-2022 01:07 | 3.3K | ||
buildbin-summary.dcf | 14-Apr-2022 01:07 | 519 | ||
buildsrc-out.txt | 14-Apr-2022 01:07 | 901 | ||
buildsrc-summary.dcf | 14-Apr-2022 01:07 | 421 | ||
checksrc-out.txt | 14-Apr-2022 01:07 | 4.1K | ||
checksrc-summary.dcf | 14-Apr-2022 01:07 | 436 | ||
install-out.txt | 14-Apr-2022 01:07 | 2.5K | ||
install-summary.dcf | 14-Apr-2022 01:07 | 266 | ||