Index of /checkResults/3.14/bioc-LATEST/biomvRCNS/raw-results/nebbiolo2

[ICO]NameLast modifiedSizeDescription

[DIR]Parent Directory  -  
[   ]install-summary.dcf14-Apr-2022 01:05 263  
[   ]buildsrc-summary.dcf14-Apr-2022 01:05 424  
[   ]checksrc-summary.dcf14-Apr-2022 01:05 432  
[TXT]buildsrc-out.txt14-Apr-2022 01:05 907  
[TXT]install-out.txt14-Apr-2022 01:05 1.4K 
[TXT]checksrc-out.txt14-Apr-2022 01:05 8.7K