![]() | Name | Last modified | Size | Description |
---|---|---|---|---|
![]() | Parent Directory | - | ||
![]() | checksrc-summary.dcf | 14-Apr-2022 01:05 | 430 | |
![]() | checksrc-out.txt | 14-Apr-2022 01:05 | 3.1K | |
![]() | buildsrc-summary.dcf | 14-Apr-2022 01:05 | 421 | |
![]() | buildsrc-out.txt | 14-Apr-2022 01:05 | 813 | |
![]() | install-summary.dcf | 14-Apr-2022 01:05 | 262 | |
![]() | install-out.txt | 14-Apr-2022 01:05 | 953 | |