![]() | Name | Last modified | Size | Description |
---|---|---|---|---|
![]() | Parent Directory | - | ||
![]() | buildbin-out.txt | 14-Apr-2022 01:07 | 1.2K | |
![]() | buildbin-summary.dcf | 14-Apr-2022 01:07 | 539 | |
![]() | buildsrc-out.txt | 14-Apr-2022 01:07 | 823 | |
![]() | buildsrc-summary.dcf | 14-Apr-2022 01:07 | 432 | |
![]() | checksrc-out.txt | 14-Apr-2022 01:07 | 4.2K | |
![]() | checksrc-summary.dcf | 14-Apr-2022 01:07 | 455 | |
![]() | install-out.txt | 14-Apr-2022 01:07 | 1.0K | |
![]() | install-summary.dcf | 14-Apr-2022 01:07 | 272 | |