Name | Last modified | Size | Description | |
---|---|---|---|---|
Parent Directory | - | |||
buildbin-summary.dcf | 14-Apr-2022 01:06 | 548 | ||
buildbin-out.txt | 14-Apr-2022 01:06 | 6.9K | ||
checksrc-summary.dcf | 14-Apr-2022 01:06 | 468 | ||
checksrc-out.txt | 14-Apr-2022 01:06 | 4.7K | ||
buildsrc-summary.dcf | 14-Apr-2022 01:06 | 464 | ||
buildsrc-out.txt | 14-Apr-2022 01:06 | 886 | ||
install-summary.dcf | 14-Apr-2022 01:06 | 653 | ||
install-out.txt | 14-Apr-2022 01:06 | 7.6K | ||