![]() | Name | Last modified | Size | Description |
---|---|---|---|---|
![]() | Parent Directory | - | ||
![]() | buildsrc-out.txt | 14-Apr-2022 01:05 | 817 | |
![]() | buildsrc-summary.dcf | 14-Apr-2022 01:05 | 424 | |
![]() | checksrc-out.txt | 14-Apr-2022 01:05 | 2.9K | |
![]() | checksrc-summary.dcf | 14-Apr-2022 01:05 | 434 | |
![]() | install-out.txt | 14-Apr-2022 01:05 | 956 | |
![]() | install-summary.dcf | 14-Apr-2022 01:05 | 264 | |