Name | Last modified | Size | Description | |
---|---|---|---|---|
Parent Directory | - | |||
buildbin-out.txt | 14-Apr-2022 01:06 | 3.1K | ||
buildbin-summary.dcf | 14-Apr-2022 01:06 | 551 | ||
buildsrc-out.txt | 14-Apr-2022 01:06 | 915 | ||
buildsrc-summary.dcf | 14-Apr-2022 01:06 | 467 | ||
checksrc-out.txt | 14-Apr-2022 01:06 | 4.1K | ||
checksrc-summary.dcf | 14-Apr-2022 01:06 | 476 | ||
install-out.txt | 14-Apr-2022 01:06 | 3.8K | ||
install-summary.dcf | 14-Apr-2022 01:06 | 659 | ||