Name | Last modified | Size | Description | |
---|---|---|---|---|
Parent Directory | - | |||
checksrc-out.txt | 14-Apr-2022 01:05 | 3.3K | ||
install-out.txt | 14-Apr-2022 01:05 | 1.1K | ||
buildsrc-out.txt | 14-Apr-2022 01:05 | 877 | ||
checksrc-summary.dcf | 14-Apr-2022 01:05 | 431 | ||
buildsrc-summary.dcf | 14-Apr-2022 01:05 | 423 | ||
install-summary.dcf | 14-Apr-2022 01:05 | 263 | ||