Name | Last modified | Size | Description | |
---|---|---|---|---|
Parent Directory | - | |||
install-summary.dcf | 14-Apr-2022 01:07 | 261 | ||
install-out.txt | 14-Apr-2022 01:07 | 32K | ||
checksrc-summary.dcf | 14-Apr-2022 01:07 | 434 | ||
checksrc-out.txt | 14-Apr-2022 01:07 | 8.2K | ||
buildsrc-summary.dcf | 14-Apr-2022 01:07 | 416 | ||
buildsrc-out.txt | 14-Apr-2022 01:07 | 830 | ||
buildbin-summary.dcf | 14-Apr-2022 01:07 | 506 | ||
buildbin-out.txt | 14-Apr-2022 01:07 | 33K | ||