Back to Multiple platform build/check report for BioC 3.14
A[B]CDEFGHIJKLMNOPQRSTUVWXYZ

This page was generated on 2022-01-26 13:07:40 -0500 (Wed, 26 Jan 2022).

HostnameOSArch (*)R versionInstalled pkgs
nebbiolo2Linux (Ubuntu 20.04.4 LTS)x86_644.1.2 (2021-11-01) -- "Bird Hippie" 4329
tokay2Windows Server 2012 R2 Standardx644.1.2 (2021-11-01) -- "Bird Hippie" 4080
machv2macOS 10.14.6 Mojavex86_644.1.2 (2021-11-01) -- "Bird Hippie" 4141
Click on any hostname to see more info about the system (e.g. compilers)      (*) as reported by 'uname -p', except on Windows and Mac OS X

BUILD BIN results for bayNorm on machv2


To the developers/maintainers of the bayNorm package:
- Please allow up to 24 hours (and sometimes 48 hours) for your latest push to git@git.bioconductor.org:packages/bayNorm.git to
reflect on this report. See How and When does the builder pull? When will my changes propagate? here for more information.
- Make sure to use the following settings in order to reproduce any error or warning you see on this page.

raw results

Package 126/2083HostnameOS / ArchINSTALLBUILDCHECKBUILD BIN
bayNorm 1.12.0  (landing page)
Wenhao Tang
Snapshot Date: 2022-01-25 01:55:07 -0500 (Tue, 25 Jan 2022)
git_url: https://git.bioconductor.org/packages/bayNorm
git_branch: RELEASE_3_14
git_last_commit: 21f4d5b
git_last_commit_date: 2021-10-26 12:47:27 -0500 (Tue, 26 Oct 2021)
nebbiolo2Linux (Ubuntu 20.04.4 LTS) / x86_64  OK    OK    OK  UNNEEDED, same version is already published
tokay2Windows Server 2012 R2 Standard / x64  OK    OK    OK    OK  UNNEEDED, same version is already published
machv2macOS 10.14.6 Mojave / x86_64  OK    OK    OK    OK  UNNEEDED, same version is already published

Summary

Package: bayNorm
Version: 1.12.0
Command: rm -rf bayNorm.buildbin-libdir && mkdir bayNorm.buildbin-libdir && /Users/biocbuild/BBS/utils/build-universal.sh bayNorm_1.12.0.tar.gz /Library/Frameworks/R.framework/Resources/bin/R bayNorm.buildbin-libdir
StartedAt: 2022-01-25 19:57:28 -0500 (Tue, 25 Jan 2022)
EndedAt: 2022-01-25 19:58:46 -0500 (Tue, 25 Jan 2022)
EllapsedTime: 77.7 seconds
RetCode: 0
Status:   OK  
PackageFile: bayNorm_1.12.0.tgz
PackageFileSize: 507.1 KiB

Command output

##############################################################################
##############################################################################
###
### Running command:
###
###   rm -rf bayNorm.buildbin-libdir && mkdir bayNorm.buildbin-libdir && /Users/biocbuild/BBS/utils/build-universal.sh bayNorm_1.12.0.tar.gz /Library/Frameworks/R.framework/Resources/bin/R bayNorm.buildbin-libdir
###
##############################################################################
##############################################################################


>>>>>>> 
>>>>>>> INSTALLATION WITH 'R CMD INSTALL --preclean --no-multiarch --library=bayNorm.buildbin-libdir bayNorm_1.12.0.tar.gz'
>>>>>>> 

* installing *source* package ‘bayNorm’ ...
** using staged installation
** libs
clang++ -mmacosx-version-min=10.13 -std=gnu++11 -I"/Library/Frameworks/R.framework/Resources/include" -DNDEBUG -DARMA_64BIT_WORD=1  -I'/Library/Frameworks/R.framework/Versions/4.1/Resources/library/Rcpp/include' -I'/Library/Frameworks/R.framework/Versions/4.1/Resources/library/RcppArmadillo/include' -I'/Library/Frameworks/R.framework/Versions/4.1/Resources/library/RcppProgress/include' -I/usr/local/include    -fPIC  -Wall -g -O2  -c RcppExports.cpp -o RcppExports.o
clang++ -mmacosx-version-min=10.13 -std=gnu++11 -I"/Library/Frameworks/R.framework/Resources/include" -DNDEBUG -DARMA_64BIT_WORD=1  -I'/Library/Frameworks/R.framework/Versions/4.1/Resources/library/Rcpp/include' -I'/Library/Frameworks/R.framework/Versions/4.1/Resources/library/RcppArmadillo/include' -I'/Library/Frameworks/R.framework/Versions/4.1/Resources/library/RcppProgress/include' -I/usr/local/include    -fPIC  -Wall -g -O2  -c bayNorm_main.cpp -o bayNorm_main.o
clang++ -mmacosx-version-min=10.13 -std=gnu++11 -dynamiclib -Wl,-headerpad_max_install_names -undefined dynamic_lookup -single_module -multiply_defined suppress -L/Library/Frameworks/R.framework/Resources/lib -L/usr/local/lib -o bayNorm.so RcppExports.o bayNorm_main.o -L/Library/Frameworks/R.framework/Resources/lib -lRlapack -L/Library/Frameworks/R.framework/Resources/lib -lRblas -L/usr/local/gfortran/lib/gcc/x86_64-apple-darwin18/8.2.0 -L/usr/local/gfortran/lib -lgfortran -lquadmath -lm -F/Library/Frameworks/R.framework/.. -framework R -Wl,-framework -Wl,CoreFoundation
installing to /Users/biocbuild/bbs-3.14-bioc/meat/bayNorm.buildbin-libdir/00LOCK-bayNorm/00new/bayNorm/libs
** R
** data
** inst
** byte-compile and prepare package for lazy loading
** help
*** installing help indices
** building package indices
** installing vignettes
** testing if installed package can be loaded from temporary location
** checking absolute paths in shared objects and dynamic libraries
** testing if installed package can be loaded from final location
** testing if installed package keeps a record of temporary installation path
* DONE (bayNorm)


>>>>>>> 
>>>>>>> FIXING LINKS FOR bayNorm.buildbin-libdir/bayNorm/libs/bayNorm.so
>>>>>>> 

install_name_tool -change "/usr/local/lib/libgcc_s.1.dylib" "/Library/Frameworks/R.framework/Versions/4.1/Resources/lib/libgcc_s.1.dylib" "bayNorm.buildbin-libdir/bayNorm/libs/bayNorm.so"
install_name_tool -change "/usr/local/lib/libgfortran.5.dylib" "/Library/Frameworks/R.framework/Versions/4.1/Resources/lib/libgfortran.5.dylib" "bayNorm.buildbin-libdir/bayNorm/libs/bayNorm.so"
install_name_tool -change "/usr/local/lib/libquadmath.0.dylib" "/Library/Frameworks/R.framework/Versions/4.1/Resources/lib/libquadmath.0.dylib" "bayNorm.buildbin-libdir/bayNorm/libs/bayNorm.so"
install_name_tool -change "/usr/local/gfortran/lib/libgfortran.5.dylib" "/Library/Frameworks/R.framework/Versions/4.1/Resources/lib/libgfortran.5.dylib" "bayNorm.buildbin-libdir/bayNorm/libs/bayNorm.so"
install_name_tool -change "/usr/local/gfortran/lib/libquadmath.0.dylib" "/Library/Frameworks/R.framework/Versions/4.1/Resources/lib/libquadmath.0.dylib" "bayNorm.buildbin-libdir/bayNorm/libs/bayNorm.so"