Name | Last modified | Size | Description | |
---|---|---|---|---|
Parent Directory | - | |||
install-summary.dcf | 14-Apr-2022 01:06 | 659 | ||
install-out.txt | 14-Apr-2022 01:06 | 10K | ||
checksrc-summary.dcf | 14-Apr-2022 01:06 | 470 | ||
checksrc-out.txt | 14-Apr-2022 01:06 | 5.0K | ||
buildsrc-summary.dcf | 14-Apr-2022 01:06 | 465 | ||
buildsrc-out.txt | 14-Apr-2022 01:06 | 887 | ||
buildbin-summary.dcf | 14-Apr-2022 01:06 | 552 | ||
buildbin-out.txt | 14-Apr-2022 01:06 | 9.3K | ||