Back to Multiple platform build/check report for BioC 3.14
A[B]CDEFGHIJKLMNOPQRSTUVWXYZ

This page was generated on 2021-12-06 13:04:53 -0500 (Mon, 06 Dec 2021).

INSTALL results for batchelor on nebbiolo2

To the developers/maintainers of the batchelor package:
- Please allow up to 24 hours (and sometimes 48 hours) for your latest push to git@git.bioconductor.org:packages/batchelor.git to
reflect on this report. See How and When does the builder pull? When will my changes propagate? here for more information.
- Make sure to use the following settings in order to reproduce any error or warning you see on this page.

raw results

Package 122/2083HostnameOS / ArchINSTALLBUILDCHECKBUILD BIN
batchelor 1.10.0  (landing page)
Aaron Lun
Snapshot Date: 2021-12-05 01:55:05 -0500 (Sun, 05 Dec 2021)
git_url: https://git.bioconductor.org/packages/batchelor
git_branch: RELEASE_3_14
git_last_commit: fbbcf91
git_last_commit_date: 2021-10-26 12:50:33 -0500 (Tue, 26 Oct 2021)
nebbiolo2Linux (Ubuntu 20.04.3 LTS) / x86_64  OK    OK    OK  UNNEEDED, same version is already published
tokay2Windows Server 2012 R2 Standard / x64  OK    OK    OK    OK  UNNEEDED, same version is already published
machv2macOS 10.14.6 Mojave / x86_64  OK    OK    OK    OK  UNNEEDED, same version is already published

Summary

Package: batchelor
Version: 1.10.0
Command: /home/biocbuild/bbs-3.14-bioc/R/bin/R CMD INSTALL batchelor
StartedAt: 2021-12-05 03:28:01 -0500 (Sun, 05 Dec 2021)
EndedAt: 2021-12-05 03:28:40 -0500 (Sun, 05 Dec 2021)
EllapsedTime: 39.1 seconds
RetCode: 0
Status:   OK  

Command output

##############################################################################
##############################################################################
###
### Running command:
###
###   /home/biocbuild/bbs-3.14-bioc/R/bin/R CMD INSTALL batchelor
###
##############################################################################
##############################################################################


* installing to library ‘/home/biocbuild/bbs-3.14-bioc/R/library’
* installing *source* package ‘batchelor’ ...
** using staged installation
** libs
g++ -std=gnu++11 -I"/home/biocbuild/bbs-3.14-bioc/R/include" -DNDEBUG  -I'/home/biocbuild/bbs-3.14-bioc/R/library/Rcpp/include' -I/usr/local/include   -fpic  -g -O2  -Wall -c RcppExports.cpp -o RcppExports.o
g++ -std=gnu++11 -I"/home/biocbuild/bbs-3.14-bioc/R/include" -DNDEBUG  -I'/home/biocbuild/bbs-3.14-bioc/R/library/Rcpp/include' -I/usr/local/include   -fpic  -g -O2  -Wall -c adjust_shift_variance.cpp -o adjust_shift_variance.o
adjust_shift_variance.cpp: In function ‘Rcpp::NumericVector adjust_shift_variance(Rcpp::NumericMatrix, Rcpp::NumericMatrix, Rcpp::NumericMatrix, double, Rcpp::IntegerVector, Rcpp::IntegerVector)’:
adjust_shift_variance.cpp:34:16: warning: comparison of integer expressions of different signedness: ‘const size_t’ {aka ‘const long unsigned int’} and ‘int’ [-Wsign-compare]
   34 |     if (ngenes != data2.nrow() || ngenes != vect.ncol()) {
      |         ~~~~~~~^~~~~~~~~~~~~~~
adjust_shift_variance.cpp:34:42: warning: comparison of integer expressions of different signedness: ‘const size_t’ {aka ‘const long unsigned int’} and ‘int’ [-Wsign-compare]
   34 |     if (ngenes != data2.nrow() || ngenes != vect.ncol()) {
      |                                   ~~~~~~~^~~~~~~~~~~~~~
adjust_shift_variance.cpp:39:16: warning: comparison of integer expressions of different signedness: ‘const size_t’ {aka ‘const long unsigned int’} and ‘int’ [-Wsign-compare]
   39 |     if (ncells != vect.nrow()) {
      |         ~~~~~~~^~~~~~~~~~~~~~
adjust_shift_variance.cpp:118:39: warning: comparison of integer expressions of different signedness: ‘size_t’ {aka ‘long unsigned int’} and ‘R_xlen_t’ {aka ‘long int’} [-Wsign-compare]
  118 |             for (size_t other=0; other<restrict1.size(); ++other) {
      |                                  ~~~~~^~~~~~~~~~~~~~~~~
g++ -std=gnu++11 -I"/home/biocbuild/bbs-3.14-bioc/R/include" -DNDEBUG  -I'/home/biocbuild/bbs-3.14-bioc/R/library/Rcpp/include' -I/usr/local/include   -fpic  -g -O2  -Wall -c find_mutual_nns.cpp -o find_mutual_nns.o
g++ -std=gnu++11 -I"/home/biocbuild/bbs-3.14-bioc/R/include" -DNDEBUG  -I'/home/biocbuild/bbs-3.14-bioc/R/library/Rcpp/include' -I/usr/local/include   -fpic  -g -O2  -Wall -c smooth_gaussian_kernel.cpp -o smooth_gaussian_kernel.o
smooth_gaussian_kernel.cpp: In function ‘SEXPREC* smooth_gaussian_kernel(Rcpp::NumericMatrix, Rcpp::IntegerVector, Rcpp::NumericMatrix, double)’:
smooth_gaussian_kernel.cpp:18:13: warning: comparison of integer expressions of different signedness: ‘const size_t’ {aka ‘const long unsigned int’} and ‘R_xlen_t’ {aka ‘long int’} [-Wsign-compare]
   18 |     if (nmnn!=index.size()) {
      |         ~~~~^~~~~~~~~~~~~~
g++ -std=gnu++11 -I"/home/biocbuild/bbs-3.14-bioc/R/include" -DNDEBUG  -I'/home/biocbuild/bbs-3.14-bioc/R/library/Rcpp/include' -I/usr/local/include   -fpic  -g -O2  -Wall -c utils.cpp -o utils.o
g++ -std=gnu++11 -shared -L/home/biocbuild/bbs-3.14-bioc/R/lib -L/usr/local/lib -o batchelor.so RcppExports.o adjust_shift_variance.o find_mutual_nns.o smooth_gaussian_kernel.o utils.o -L/home/biocbuild/bbs-3.14-bioc/R/lib -lR
installing to /home/biocbuild/bbs-3.14-bioc/R/library/00LOCK-batchelor/00new/batchelor/libs
** R
** inst
** byte-compile and prepare package for lazy loading
** help
*** installing help indices
** building package indices
** installing vignettes
** testing if installed package can be loaded from temporary location
** checking absolute paths in shared objects and dynamic libraries
** testing if installed package can be loaded from final location
** testing if installed package keeps a record of temporary installation path
* DONE (batchelor)