Back to Multiple platform build/check report for BioC 3.14
A[B]CDEFGHIJKLMNOPQRSTUVWXYZ

This page was generated on 2022-01-14 13:04:06 -0500 (Fri, 14 Jan 2022).

HostnameOSArch (*)R versionInstalled pkgs
nebbiolo2Linux (Ubuntu 20.04.4 LTS)x86_644.1.2 (2021-11-01) -- "Bird Hippie" 4327
tokay2Windows Server 2012 R2 Standardx644.1.2 (2021-11-01) -- "Bird Hippie" 4076
machv2macOS 10.14.6 Mojavex86_644.1.2 (2021-11-01) -- "Bird Hippie" 4137
Click on any hostname to see more info about the system (e.g. compilers)      (*) as reported by 'uname -p', except on Windows and Mac OS X

All results for package basilisk


To the developers/maintainers of the basilisk package:
- Please allow up to 24 hours (and sometimes 48 hours) for your latest push to git@git.bioconductor.org:packages/basilisk.git to
reflect on this report. See How and When does the builder pull? When will my changes propagate? here for more information.
- Make sure to use the following settings in order to reproduce any error or warning you see on this page.

raw results

Package 120/2083HostnameOS / ArchINSTALLBUILDCHECKBUILD BIN
basilisk 1.6.0  (landing page)
Aaron Lun
Snapshot Date: 2022-01-13 01:55:04 -0500 (Thu, 13 Jan 2022)
git_url: https://git.bioconductor.org/packages/basilisk
git_branch: RELEASE_3_14
git_last_commit: 8910ee2
git_last_commit_date: 2021-10-26 12:57:18 -0500 (Tue, 26 Oct 2021)
nebbiolo2Linux (Ubuntu 20.04.4 LTS) / x86_64  OK    OK    OK  UNNEEDED, same version is already published
tokay2Windows Server 2012 R2 Standard / x64  OK    OK    OK    OK  UNNEEDED, same version is already published
machv2macOS 10.14.6 Mojave / x86_64  OK    OK    OK    OK  UNNEEDED, same version is already published

Results for Bioconductor software packages that depend directly on package basilisk

QUICK STATSOS / ArchINSTALLBUILDCHECKBUILD BIN
nebbiolo2Linux (Ubuntu 20.04.4 LTS) / x86_64
0012
0012
00111
tokay2Windows Server 2012 R2 Standard / x64
0010
0010
0118
0010
machv2macOS 10.14.6 Mojave / x86_64
0012
0012
00111
0012
Package 1/12HostnameOS / ArchINSTALLBUILDCHECKBUILD BIN
BiocSklearn 1.16.0  (landing page)
Vince Carey
git_last_commit: e86f9c8
git_last_commit_date: 2021-10-26 12:36:55 -0500
nebbiolo2Linux (Ubuntu 20.04.4 LTS) / x86_64  OK    OK    OK  UNNEEDED, same version is already published
tokay2Windows Server 2012 R2 Standard / x64  OK    OK    OK    OK  UNNEEDED, same version is already published
machv2macOS 10.14.6 Mojave / x86_64  OK    OK    OK    OK  UNNEEDED, same version is already published
Package 2/12HostnameOS / ArchINSTALLBUILDCHECKBUILD BIN
cbpManager 1.2.2  (landing page)
Arsenij Ustjanzew
git_last_commit: fd7d9e9
git_last_commit_date: 2021-12-02 07:21:43 -0500
nebbiolo2Linux (Ubuntu 20.04.4 LTS) / x86_64  OK    OK    WARNINGS  UNNEEDED, same version is already published
tokay2Windows Server 2012 R2 Standard / x64  OK    OK    WARNINGS    OK  UNNEEDED, same version is already published
machv2macOS 10.14.6 Mojave / x86_64  OK    OK    WARNINGS    OK  UNNEEDED, same version is already published
Package 3/12HostnameOS / ArchINSTALLBUILDCHECKBUILD BIN
dasper 1.4.1  (landing page)
David Zhang
git_last_commit: b012447
git_last_commit_date: 2022-01-10 17:32:01 -0500
nebbiolo2Linux (Ubuntu 20.04.4 LTS) / x86_64  OK    OK    OK  UNNEEDED, same version is already published
tokay2Windows Server 2012 R2 Standard / x64  OK    OK    ERROR    OK  
machv2macOS 10.14.6 Mojave / x86_64  OK    OK    OK    OK  UNNEEDED, same version is already published
Package 4/12HostnameOS / ArchINSTALLBUILDCHECKBUILD BIN
densvis 1.4.0  (landing page)
Alan O'Callaghan
git_last_commit: 75f5aa0
git_last_commit_date: 2021-10-26 13:04:35 -0500
nebbiolo2Linux (Ubuntu 20.04.4 LTS) / x86_64  OK    OK    OK  UNNEEDED, same version is already published
tokay2Windows Server 2012 R2 Standard / x64  OK    OK    OK    OK  UNNEEDED, same version is already published
machv2macOS 10.14.6 Mojave / x86_64  OK    OK    OK    OK  UNNEEDED, same version is already published
Package 5/12HostnameOS / ArchINSTALLBUILDCHECKBUILD BIN
FLAMES 1.0.2  (landing page)
Voogd Oliver
git_last_commit: e96c59c
git_last_commit_date: 2021-11-03 18:27:48 -0500
nebbiolo2Linux (Ubuntu 20.04.4 LTS) / x86_64  OK    OK    OK  UNNEEDED, same version is already published
tokay2Windows Server 2012 R2 Standard / x64  OK    OK    OK    OK  UNNEEDED, same version is already published
machv2macOS 10.14.6 Mojave / x86_64  OK    OK    OK    OK  UNNEEDED, same version is already published
Package 6/12HostnameOS / ArchINSTALLBUILDCHECKBUILD BIN
MACSr 1.2.0  (landing page)
Qiang Hu
git_last_commit: 78f9ee1
git_last_commit_date: 2021-10-26 13:06:52 -0500
nebbiolo2Linux (Ubuntu 20.04.4 LTS) / x86_64  OK    OK    OK  UNNEEDED, same version is already published
tokay2Windows Server 2012 R2 Standard / x64... NOT SUPPORTED ...
machv2macOS 10.14.6 Mojave / x86_64  OK    OK    OK    OK  UNNEEDED, same version is already published
Package 7/12HostnameOS / ArchINSTALLBUILDCHECKBUILD BIN
MOFA2 1.4.0  (landing page)
Britta Velten
git_last_commit: 2aa2c46
git_last_commit_date: 2021-10-26 13:04:00 -0500
nebbiolo2Linux (Ubuntu 20.04.4 LTS) / x86_64  OK    OK    OK  UNNEEDED, same version is already published
tokay2Windows Server 2012 R2 Standard / x64  OK    OK    OK    OK  UNNEEDED, same version is already published
machv2macOS 10.14.6 Mojave / x86_64  OK    OK    OK    OK  UNNEEDED, same version is already published
Package 8/12HostnameOS / ArchINSTALLBUILDCHECKBUILD BIN
Rcwl 1.10.0  (landing page)
Qiang Hu
git_last_commit: 36acaa0
git_last_commit_date: 2021-10-26 12:49:26 -0500
nebbiolo2Linux (Ubuntu 20.04.4 LTS) / x86_64  OK    OK    OK  UNNEEDED, same version is already published
tokay2Windows Server 2012 R2 Standard / x64... NOT SUPPORTED ...
machv2macOS 10.14.6 Mojave / x86_64  OK    OK    OK    OK  UNNEEDED, same version is already published
Package 9/12HostnameOS / ArchINSTALLBUILDCHECKBUILD BIN
snifter 1.4.0  (landing page)
Alan O'Callaghan
git_last_commit: 548182d
git_last_commit_date: 2021-10-26 13:01:45 -0500
nebbiolo2Linux (Ubuntu 20.04.4 LTS) / x86_64  OK    OK    OK  UNNEEDED, same version is already published
tokay2Windows Server 2012 R2 Standard / x64  OK    OK    OK    OK  UNNEEDED, same version is already published
machv2macOS 10.14.6 Mojave / x86_64  OK    OK    OK    OK  UNNEEDED, same version is already published
Package 10/12HostnameOS / ArchINSTALLBUILDCHECKBUILD BIN
spatialDE 1.0.0  (landing page)
Davide Corso
git_last_commit: bb66d91
git_last_commit_date: 2021-10-26 13:11:55 -0500
nebbiolo2Linux (Ubuntu 20.04.4 LTS) / x86_64  OK    OK    OK  UNNEEDED, same version is already published
tokay2Windows Server 2012 R2 Standard / x64  OK    OK    OK    OK  UNNEEDED, same version is already published
machv2macOS 10.14.6 Mojave / x86_64  OK    OK    OK    OK  UNNEEDED, same version is already published
Package 11/12HostnameOS / ArchINSTALLBUILDCHECKBUILD BIN
velociraptor 1.4.0  (landing page)
Kevin Rue-Albrecht
git_last_commit: ca6d3dc
git_last_commit_date: 2021-10-26 13:03:06 -0500
nebbiolo2Linux (Ubuntu 20.04.4 LTS) / x86_64  OK    OK    OK  UNNEEDED, same version is already published
tokay2Windows Server 2012 R2 Standard / x64  OK    OK    OK    OK  UNNEEDED, same version is already published
machv2macOS 10.14.6 Mojave / x86_64  OK    OK    OK    OK  UNNEEDED, same version is already published
Package 12/12HostnameOS / ArchINSTALLBUILDCHECKBUILD BIN
zellkonverter 1.4.0  (landing page)
Luke Zappia
git_last_commit: bcef367
git_last_commit_date: 2021-10-26 13:01:57 -0500
nebbiolo2Linux (Ubuntu 20.04.4 LTS) / x86_64  OK    OK    OK  UNNEEDED, same version is already published
tokay2Windows Server 2012 R2 Standard / x64  OK    OK    OK    OK  UNNEEDED, same version is already published
machv2macOS 10.14.6 Mojave / x86_64  OK    OK    OK    OK  UNNEEDED, same version is already published