Name | Last modified | Size | Description | |
---|---|---|---|---|
Parent Directory | - | |||
buildbin-out.txt | 14-Apr-2022 01:06 | 6.5K | ||
buildbin-summary.dcf | 14-Apr-2022 01:06 | 552 | ||
buildsrc-out.txt | 14-Apr-2022 01:06 | 896 | ||
buildsrc-summary.dcf | 14-Apr-2022 01:06 | 469 | ||
checksrc-out.txt | 14-Apr-2022 01:06 | 6.3K | ||
checksrc-summary.dcf | 14-Apr-2022 01:06 | 479 | ||
install-out.txt | 14-Apr-2022 01:06 | 7.5K | ||
install-summary.dcf | 14-Apr-2022 01:06 | 662 | ||