Back to Multiple platform build/check report for BioC 3.14
[A]BCDEFGHIJKLMNOPQRSTUVWXYZ

This page was generated on 2022-01-24 13:05:53 -0500 (Mon, 24 Jan 2022).

HostnameOSArch (*)R versionInstalled pkgs
nebbiolo2Linux (Ubuntu 20.04.4 LTS)x86_644.1.2 (2021-11-01) -- "Bird Hippie" 4329
tokay2Windows Server 2012 R2 Standardx644.1.2 (2021-11-01) -- "Bird Hippie" 4080
machv2macOS 10.14.6 Mojavex86_644.1.2 (2021-11-01) -- "Bird Hippie" 4141
Click on any hostname to see more info about the system (e.g. compilers)      (*) as reported by 'uname -p', except on Windows and Mac OS X

BUILD BIN results for atena on tokay2


To the developers/maintainers of the atena package:
- Please allow up to 24 hours (and sometimes 48 hours) for your latest push to git@git.bioconductor.org:packages/atena.git to
reflect on this report. See How and When does the builder pull? When will my changes propagate? here for more information.
- Make sure to use the following settings in order to reproduce any error or warning you see on this page.

raw results

Package 95/2083HostnameOS / ArchINSTALLBUILDCHECKBUILD BIN
atena 1.0.1  (landing page)
Beatriz Calvo-Serra
Snapshot Date: 2022-01-23 01:55:04 -0500 (Sun, 23 Jan 2022)
git_url: https://git.bioconductor.org/packages/atena
git_branch: RELEASE_3_14
git_last_commit: 5bc457c
git_last_commit_date: 2021-11-05 07:41:58 -0500 (Fri, 05 Nov 2021)
nebbiolo2Linux (Ubuntu 20.04.4 LTS) / x86_64  OK    OK    OK  UNNEEDED, same version is already published
tokay2Windows Server 2012 R2 Standard / x64  OK    OK    OK    OK  UNNEEDED, same version is already published
machv2macOS 10.14.6 Mojave / x86_64  OK    OK    OK    OK  UNNEEDED, same version is already published

Summary

Package: atena
Version: 1.0.1
Command: rm -rf atena.buildbin-libdir && mkdir atena.buildbin-libdir && C:\Users\biocbuild\bbs-3.14-bioc\R\bin\R.exe CMD INSTALL --merge-multiarch --build --library=atena.buildbin-libdir atena_1.0.1.tar.gz
StartedAt: 2022-01-24 05:06:59 -0500 (Mon, 24 Jan 2022)
EndedAt: 2022-01-24 05:07:59 -0500 (Mon, 24 Jan 2022)
EllapsedTime: 59.2 seconds
RetCode: 0
Status:   OK  
PackageFile: atena_1.0.1.zip
PackageFileSize: 1.352 MiB

Command output

##############################################################################
##############################################################################
###
### Running command:
###
###   rm -rf atena.buildbin-libdir && mkdir atena.buildbin-libdir && C:\Users\biocbuild\bbs-3.14-bioc\R\bin\R.exe CMD INSTALL --merge-multiarch --build --library=atena.buildbin-libdir atena_1.0.1.tar.gz
###
##############################################################################
##############################################################################



install for i386

* installing *source* package 'atena' ...
** using staged installation
** R
** inst
** byte-compile and prepare package for lazy loading
** help
*** installing help indices
  converting help for package 'atena'
    finding HTML links ... done
    AtenaParam-class                        html  
    finding level-2 HTML links ... done

    ERVmapParam-class                       html  
    TEtranscriptsParam-class                html  
    TelescopeParam-class                    html  
    atena-package                           html  
    ovFunctions                             html  
    qtex                                    html  
** building package indices
** installing vignettes
** testing if installed package can be loaded from temporary location
** testing if installed package can be loaded from final location
** testing if installed package keeps a record of temporary installation path

install for x64

* installing *source* package 'atena' ...
** testing if installed package can be loaded
* MD5 sums
packaged installation of 'atena' as atena_1.0.1.zip
* DONE (atena)