![]() | Name | Last modified | Size | Description |
---|---|---|---|---|
![]() | Parent Directory | - | ||
![]() | buildbin-out.txt | 14-Apr-2022 01:06 | 1.8K | |
![]() | buildbin-summary.dcf | 14-Apr-2022 01:06 | 551 | |
![]() | buildsrc-out.txt | 14-Apr-2022 01:06 | 925 | |
![]() | buildsrc-summary.dcf | 14-Apr-2022 01:06 | 468 | |
![]() | checksrc-out.txt | 14-Apr-2022 01:06 | 3.4K | |
![]() | checksrc-summary.dcf | 14-Apr-2022 01:06 | 470 | |
![]() | install-out.txt | 14-Apr-2022 01:06 | 2.4K | |
![]() | install-summary.dcf | 14-Apr-2022 01:06 | 659 | |