![]() | Name | Last modified | Size | Description |
---|---|---|---|---|
![]() | Parent Directory | - | ||
![]() | install-out.txt | 14-Apr-2022 01:05 | 953 | |
![]() | install-summary.dcf | 14-Apr-2022 01:05 | 263 | |
![]() | buildsrc-out.txt | 14-Apr-2022 01:05 | 886 | |
![]() | buildsrc-summary.dcf | 14-Apr-2022 01:05 | 424 | |
![]() | checksrc-out.txt | 14-Apr-2022 01:05 | 2.9K | |
![]() | checksrc-summary.dcf | 14-Apr-2022 01:05 | 432 | |