![]() | Name | Last modified | Size | Description |
---|---|---|---|---|
![]() | Parent Directory | - | ||
![]() | buildbin-out.txt | 14-Apr-2022 01:07 | 1.2K | |
![]() | buildbin-summary.dcf | 14-Apr-2022 01:07 | 542 | |
![]() | buildsrc-out.txt | 14-Apr-2022 01:07 | 896 | |
![]() | buildsrc-summary.dcf | 14-Apr-2022 01:07 | 432 | |
![]() | checksrc-out.txt | 14-Apr-2022 01:07 | 3.0K | |
![]() | checksrc-summary.dcf | 14-Apr-2022 01:07 | 452 | |
![]() | install-out.txt | 14-Apr-2022 01:07 | 1.0K | |
![]() | install-summary.dcf | 14-Apr-2022 01:07 | 274 | |