Back to Multiple platform build/check report for BioC 3.14
[A]BCDEFGHIJKLMNOPQRSTUVWXYZ

This page was generated on 2022-01-19 13:07:38 -0500 (Wed, 19 Jan 2022).

HostnameOSArch (*)R versionInstalled pkgs
nebbiolo2Linux (Ubuntu 20.04.4 LTS)x86_644.1.2 (2021-11-01) -- "Bird Hippie" 4328
tokay2Windows Server 2012 R2 Standardx644.1.2 (2021-11-01) -- "Bird Hippie" 4077
machv2macOS 10.14.6 Mojavex86_644.1.2 (2021-11-01) -- "Bird Hippie" 4138
Click on any hostname to see more info about the system (e.g. compilers)      (*) as reported by 'uname -p', except on Windows and Mac OS X

BUILD results for annmap on machv2


To the developers/maintainers of the annmap package:
- Please allow up to 24 hours (and sometimes 48 hours) for your latest push to git@git.bioconductor.org:packages/annmap.git to
reflect on this report. See How and When does the builder pull? When will my changes propagate? here for more information.
- Make sure to use the following settings in order to reproduce any error or warning you see on this page.

raw results

Package 58/2083HostnameOS / ArchINSTALLBUILDCHECKBUILD BIN
annmap 1.36.99  (landing page)
Chris Wirth
Snapshot Date: 2022-01-18 01:55:07 -0500 (Tue, 18 Jan 2022)
git_url: https://git.bioconductor.org/packages/annmap
git_branch: RELEASE_3_14
git_last_commit: 959b765
git_last_commit_date: 2022-01-07 07:25:06 -0500 (Fri, 07 Jan 2022)
nebbiolo2Linux (Ubuntu 20.04.4 LTS) / x86_64  OK    OK    WARNINGS  UNNEEDED, same version is already published
tokay2Windows Server 2012 R2 Standard / x64... NOT SUPPORTED ...
machv2macOS 10.14.6 Mojave / x86_64  OK    OK    WARNINGS    OK  UNNEEDED, same version is already published

Summary

Package: annmap
Version: 1.36.99
Command: /Library/Frameworks/R.framework/Resources/bin/R CMD build --keep-empty-dirs --no-resave-data annmap
StartedAt: 2022-01-18 04:29:47 -0500 (Tue, 18 Jan 2022)
EndedAt: 2022-01-18 04:30:46 -0500 (Tue, 18 Jan 2022)
EllapsedTime: 59.7 seconds
RetCode: 0
Status:   OK  
PackageFile: annmap_1.36.99.tar.gz
PackageFileSize: 896.1 KiB

Command output

##############################################################################
##############################################################################
###
### Running command:
###
###   /Library/Frameworks/R.framework/Resources/bin/R CMD build --keep-empty-dirs --no-resave-data annmap
###
##############################################################################
##############################################################################


* checking for file ‘annmap/DESCRIPTION’ ... OK
* preparing ‘annmap’:
* checking DESCRIPTION meta-information ... OK
* installing the package to build vignettes
* creating vignettes ... OK
* checking for LF line-endings in source and make files and shell scripts
* checking for empty or unneeded directories
* building ‘annmap_1.36.99.tar.gz’