![]() | Name | Last modified | Size | Description |
---|---|---|---|---|
![]() | Parent Directory | - | ||
![]() | install-out.txt | 14-Apr-2022 01:06 | 3.2K | |
![]() | install-summary.dcf | 14-Apr-2022 01:06 | 667 | |
![]() | buildsrc-out.txt | 14-Apr-2022 01:06 | 920 | |
![]() | buildsrc-summary.dcf | 14-Apr-2022 01:06 | 470 | |
![]() | checksrc-out.txt | 14-Apr-2022 01:06 | 7.8K | |
![]() | checksrc-summary.dcf | 14-Apr-2022 01:06 | 474 | |
![]() | buildbin-out.txt | 14-Apr-2022 01:06 | 2.5K | |
![]() | buildbin-summary.dcf | 14-Apr-2022 01:06 | 557 | |