Name | Last modified | Size | Description | |
---|---|---|---|---|
Parent Directory | - | |||
install-summary.dcf | 14-Apr-2022 01:06 | 631 | ||
install-out.txt | 14-Apr-2022 01:06 | 35K | ||
checksrc-summary.dcf | 14-Apr-2022 01:06 | 463 | ||
checksrc-out.txt | 14-Apr-2022 01:06 | 10K | ||
buildsrc-summary.dcf | 14-Apr-2022 01:06 | 453 | ||
buildsrc-out.txt | 14-Apr-2022 01:06 | 860 | ||
buildbin-summary.dcf | 14-Apr-2022 01:06 | 533 | ||
buildbin-out.txt | 14-Apr-2022 01:06 | 35K | ||