Index of /checkResults/3.14/bioc-LATEST/affyILM/raw-results/nebbiolo2

[ICO]NameLast modifiedSizeDescription

[DIR]Parent Directory  -  
[   ]install-summary.dcf14-Apr-2022 01:05 259  
[   ]buildsrc-summary.dcf14-Apr-2022 01:05 417  
[   ]checksrc-summary.dcf14-Apr-2022 01:05 423  
[TXT]buildsrc-out.txt14-Apr-2022 01:05 806  
[TXT]install-out.txt14-Apr-2022 01:05 939  
[TXT]checksrc-out.txt14-Apr-2022 01:05 2.9K