![]() | Name | Last modified | Size | Description |
---|---|---|---|---|
![]() | Parent Directory | - | ||
![]() | buildbin-out.txt | 14-Apr-2022 01:07 | 3.9K | |
![]() | buildbin-summary.dcf | 14-Apr-2022 01:07 | 512 | |
![]() | buildsrc-out.txt | 14-Apr-2022 01:07 | 945 | |
![]() | buildsrc-summary.dcf | 14-Apr-2022 01:07 | 418 | |
![]() | checksrc-out.txt | 14-Apr-2022 01:07 | 4.4K | |
![]() | checksrc-summary.dcf | 14-Apr-2022 01:07 | 438 | |
![]() | install-out.txt | 14-Apr-2022 01:07 | 3.1K | |
![]() | install-summary.dcf | 14-Apr-2022 01:07 | 263 | |