Index of /checkResults/3.14/bioc-LATEST/XNAString/raw-results
Name
Last modified
Size
Description
Parent Directory
-
info.dcf
14-Apr-2022 01:09
288
machv2/
14-Apr-2022 01:09
-
nebbiolo2/
14-Apr-2022 01:06
-
tokay2/
14-Apr-2022 01:07
-