Name | Last modified | Size | Description | |
---|---|---|---|---|
Parent Directory | - | |||
buildbin-out.txt | 14-Apr-2022 01:07 | 3.3K | ||
checksrc-out.txt | 14-Apr-2022 01:07 | 1.5K | ||
buildsrc-out.txt | 14-Apr-2022 01:07 | 890 | ||
install-out.txt | 14-Apr-2022 01:07 | 775 | ||
install-summary.dcf | 14-Apr-2022 01:07 | 623 | ||
checksrc-summary.dcf | 14-Apr-2022 01:07 | 452 | ||
buildsrc-summary.dcf | 14-Apr-2022 01:07 | 446 | ||
buildbin-summary.dcf | 14-Apr-2022 01:07 | 443 | ||