Name | Last modified | Size | Description | |
---|---|---|---|---|
Parent Directory | - | |||
checksrc-summary.dcf | 14-Apr-2022 01:06 | 412 | ||
checksrc-out.txt | 14-Apr-2022 01:06 | 3.3K | ||
buildsrc-out.txt | 14-Apr-2022 01:06 | 857 | ||
buildsrc-summary.dcf | 14-Apr-2022 01:06 | 408 | ||
install-out.txt | 14-Apr-2022 01:06 | 946 | ||
install-summary.dcf | 14-Apr-2022 01:06 | 252 | ||