Index of /checkResults/3.14/bioc-LATEST/VariantTools/raw-results/tokay2
Name
Last modified
Size
Description
Parent Directory
-
buildsrc-out.txt
14-Apr-2022 01:07
4.1K
buildsrc-summary.dcf
14-Apr-2022 01:07
389
install-out.txt
14-Apr-2022 01:07
3.1K
install-summary.dcf
14-Apr-2022 01:07
685