Name | Last modified | Size | Description | |
---|---|---|---|---|
Parent Directory | - | |||
buildsrc-out.txt | 14-Apr-2022 01:06 | 889 | ||
buildsrc-summary.dcf | 14-Apr-2022 01:06 | 432 | ||
checksrc-out.txt | 14-Apr-2022 01:06 | 6.4K | ||
checksrc-summary.dcf | 14-Apr-2022 01:06 | 450 | ||
install-out.txt | 14-Apr-2022 01:06 | 1.0K | ||
install-summary.dcf | 14-Apr-2022 01:06 | 269 | ||