Name | Last modified | Size | Description | |
---|---|---|---|---|
Parent Directory | - | |||
buildsrc-out.txt | 14-Apr-2022 01:06 | 912 | ||
buildsrc-summary.dcf | 14-Apr-2022 01:06 | 445 | ||
checksrc-out.txt | 14-Apr-2022 01:06 | 3.9K | ||
checksrc-summary.dcf | 14-Apr-2022 01:06 | 460 | ||
install-out.txt | 14-Apr-2022 01:06 | 2.5K | ||
install-summary.dcf | 14-Apr-2022 01:06 | 277 | ||