Name | Last modified | Size | Description | |
---|---|---|---|---|
Parent Directory | - | |||
buildsrc-out.txt | 14-Apr-2022 01:06 | 45K | ||
buildsrc-summary.dcf | 14-Apr-2022 01:06 | 332 | ||
checksrc-out.txt | 12-Apr-2022 01:05 | 3.8K | ||
checksrc-summary.dcf | 12-Apr-2022 01:05 | 422 | ||
install-out.txt | 14-Apr-2022 01:06 | 939 | ||
install-summary.dcf | 14-Apr-2022 01:06 | 258 | ||