Name | Last modified | Size | Description | |
---|---|---|---|---|
Parent Directory | - | |||
buildsrc-summary.dcf | 14-Apr-2022 01:07 | 460 | ||
checksrc-summary.dcf | 14-Apr-2022 01:07 | 468 | ||
buildbin-summary.dcf | 14-Apr-2022 01:07 | 542 | ||
install-summary.dcf | 14-Apr-2022 01:07 | 644 | ||
buildsrc-out.txt | 14-Apr-2022 01:07 | 849 | ||
buildbin-out.txt | 14-Apr-2022 01:07 | 4.5K | ||
install-out.txt | 14-Apr-2022 01:07 | 5.4K | ||
checksrc-out.txt | 14-Apr-2022 01:07 | 6.5K | ||