Name | Last modified | Size | Description | |
---|---|---|---|---|
Parent Directory | - | |||
checksrc-summary.dcf | 14-Apr-2022 01:06 | 430 | ||
checksrc-out.txt | 14-Apr-2022 01:06 | 4.7K | ||
buildsrc-summary.dcf | 14-Apr-2022 01:06 | 417 | ||
buildsrc-out.txt | 14-Apr-2022 01:06 | 809 | ||
install-summary.dcf | 14-Apr-2022 01:06 | 260 | ||
install-out.txt | 14-Apr-2022 01:06 | 1.0K | ||