Name | Last modified | Size | Description | |
---|---|---|---|---|
Parent Directory | - | |||
buildsrc-out.txt | 14-Apr-2022 01:06 | 860 | ||
buildsrc-summary.dcf | 14-Apr-2022 01:06 | 409 | ||
checksrc-out.txt | 14-Apr-2022 01:06 | 3.0K | ||
checksrc-summary.dcf | 14-Apr-2022 01:06 | 414 | ||
install-out.txt | 14-Apr-2022 01:06 | 949 | ||
install-summary.dcf | 14-Apr-2022 01:06 | 254 | ||