Name | Last modified | Size | Description | |
---|---|---|---|---|
Parent Directory | - | |||
checksrc-out.txt | 14-Apr-2022 01:06 | 3.3K | ||
install-out.txt | 14-Apr-2022 01:06 | 971 | ||
buildsrc-out.txt | 14-Apr-2022 01:06 | 838 | ||
checksrc-summary.dcf | 14-Apr-2022 01:06 | 456 | ||
buildsrc-summary.dcf | 14-Apr-2022 01:06 | 441 | ||
install-summary.dcf | 14-Apr-2022 01:06 | 275 | ||