Name | Last modified | Size | Description | |
---|---|---|---|---|
Parent Directory | - | |||
install-summary.dcf | 14-Apr-2022 01:07 | 622 | ||
install-out.txt | 14-Apr-2022 01:07 | 3.7K | ||
checksrc-summary.dcf | 14-Apr-2022 01:07 | 460 | ||
checksrc-out.txt | 14-Apr-2022 01:07 | 4.8K | ||
buildsrc-summary.dcf | 14-Apr-2022 01:07 | 450 | ||
buildsrc-out.txt | 14-Apr-2022 01:07 | 895 | ||
buildbin-summary.dcf | 14-Apr-2022 01:07 | 527 | ||
buildbin-out.txt | 14-Apr-2022 01:07 | 2.9K | ||