Name | Last modified | Size | Description | |
---|---|---|---|---|
Parent Directory | - | |||
buildsrc-out.txt | 14-Apr-2022 01:06 | 923 | ||
buildsrc-summary.dcf | 14-Apr-2022 01:06 | 435 | ||
checksrc-out.txt | 14-Apr-2022 01:06 | 3.6K | ||
checksrc-summary.dcf | 14-Apr-2022 01:06 | 448 | ||
install-out.txt | 14-Apr-2022 01:06 | 2.6K | ||
install-summary.dcf | 14-Apr-2022 01:06 | 271 | ||