Name | Last modified | Size | Description | |
---|---|---|---|---|
Parent Directory | - | |||
install-summary.dcf | 14-Apr-2022 01:08 | 286 | ||
install-out.txt | 14-Apr-2022 01:08 | 1.0K | ||
checksrc-summary.dcf | 14-Apr-2022 01:08 | 478 | ||
checksrc-out.txt | 14-Apr-2022 01:08 | 4.4K | ||
buildsrc-summary.dcf | 14-Apr-2022 01:08 | 453 | ||
buildsrc-out.txt | 14-Apr-2022 01:08 | 914 | ||
buildbin-summary.dcf | 14-Apr-2022 01:08 | 581 | ||
buildbin-out.txt | 14-Apr-2022 01:08 | 1.2K | ||