Back to Multiple platform build/check report for BioC 3.14
ABCDEFGHIJKLMNOPQR[S]TUVWXYZ

This page was generated on 2021-10-20 12:04:31 -0400 (Wed, 20 Oct 2021).

All results for package SeqArray

To the developers/maintainers of the SeqArray package:
- Please allow up to 24 hours (and sometimes 48 hours) for your latest push to git@git.bioconductor.org:packages/SeqArray.git to
reflect on this report. See How and When does the builder pull? When will my changes propagate? here for more information.
- Make sure to use the following settings in order to reproduce any error or warning you see on this page.

raw results

Package 1753/2072HostnameOS / ArchINSTALLBUILDCHECKBUILD BIN
SeqArray 1.33.1  (landing page)
Xiuwen Zheng
Snapshot Date: 2021-10-19 14:50:04 -0400 (Tue, 19 Oct 2021)
git_url: https://git.bioconductor.org/packages/SeqArray
git_branch: master
git_last_commit: e7d5e78
git_last_commit_date: 2021-09-14 18:24:23 -0400 (Tue, 14 Sep 2021)
nebbiolo2Linux (Ubuntu 20.04.2 LTS) / x86_64  OK    OK    OK  UNNEEDED, same version is already published
riesling1Windows Server 2019 Standard / x64  OK    OK    OK    OK  UNNEEDED, same version is already published
merida1macOS 10.14.6 Mojave / x86_64  OK    OK    OK    NA  

Results for Bioconductor software packages that depend directly on package SeqArray

QUICK STATSOS / ArchINSTALLBUILDCHECKBUILD BIN
nebbiolo2Linux (Ubuntu 20.04.2 LTS) / x86_64
005
005
0014
riesling1Windows Server 2019 Standard / x64
005
005
0212
005
merida1macOS 10.14.6 Mojave / x86_64
005
005
0014
002
Package 1/5HostnameOS / ArchINSTALLBUILDCHECKBUILD BIN
GDSArray 1.13.1  (landing page)
Qian Liu
git_last_commit: 6b32e56
git_last_commit_date: 2021-05-24 00:16:37 -0400
nebbiolo2Linux (Ubuntu 20.04.2 LTS) / x86_64  OK    OK    OK  UNNEEDED, same version is already published
riesling1Windows Server 2019 Standard / x64  OK    OK    ERROR    OK  
merida1macOS 10.14.6 Mojave / x86_64  OK    OK    OK    OK  UNNEEDED, same version is already published
Package 2/5HostnameOS / ArchINSTALLBUILDCHECKBUILD BIN
GENESIS 2.23.8  (landing page)
Stephanie M. Gogarten
git_last_commit: 81570cf
git_last_commit_date: 2021-09-09 00:53:48 -0400
nebbiolo2Linux (Ubuntu 20.04.2 LTS) / x86_64  OK    OK    OK  UNNEEDED, same version is already published
riesling1Windows Server 2019 Standard / x64  OK    OK    OK    OK  UNNEEDED, same version is already published
merida1macOS 10.14.6 Mojave / x86_64  OK    OK    OK    OK  UNNEEDED, same version is already published
Package 3/5HostnameOS / ArchINSTALLBUILDCHECKBUILD BIN
SAIGEgds 1.7.2  (landing page)
Xiuwen Zheng
git_last_commit: a646735
git_last_commit_date: 2021-09-17 15:24:12 -0400
nebbiolo2Linux (Ubuntu 20.04.2 LTS) / x86_64  OK    OK    OK  UNNEEDED, same version is already published
riesling1Windows Server 2019 Standard / x64  OK    OK    ERROR    OK  
merida1macOS 10.14.6 Mojave / x86_64  OK    OK    OK    NA  
Package 4/5HostnameOS / ArchINSTALLBUILDCHECKBUILD BIN
SeqVarTools 1.31.0  (landing page)
Stephanie M. Gogarten
git_last_commit: a59290c
git_last_commit_date: 2021-05-19 12:00:00 -0400
nebbiolo2Linux (Ubuntu 20.04.2 LTS) / x86_64  OK    OK    OK  UNNEEDED, same version is already published
riesling1Windows Server 2019 Standard / x64  OK    OK    OK    OK  UNNEEDED, same version is already published
merida1macOS 10.14.6 Mojave / x86_64  OK    OK    OK    NA  
Package 5/5HostnameOS / ArchINSTALLBUILDCHECKBUILD BIN
VariantExperiment 1.7.1  (landing page)
Qian Liu
git_last_commit: c5d4dcb
git_last_commit_date: 2021-05-24 00:15:17 -0400
nebbiolo2Linux (Ubuntu 20.04.2 LTS) / x86_64  OK    OK    WARNINGS  UNNEEDED, same version is already published
riesling1Windows Server 2019 Standard / x64  OK    OK    WARNINGS    OK  NO, package depends on 'GDSArray' which is not available
merida1macOS 10.14.6 Mojave / x86_64  OK    OK    WARNINGS    NA