Index of /checkResults/3.14/bioc-LATEST/ScISI/raw-results/machv2
Name
Last modified
Size
Description
Parent Directory
-
buildsrc-out.txt
14-Apr-2022 01:08
2.7K
buildsrc-summary.dcf
14-Apr-2022 01:08
340
install-out.txt
14-Apr-2022 01:08
1.0K
install-summary.dcf
14-Apr-2022 01:08
265