Name | Last modified | Size | Description | |
---|---|---|---|---|
Parent Directory | - | |||
install-summary.dcf | 14-Apr-2022 01:07 | 640 | ||
install-out.txt | 14-Apr-2022 01:07 | 2.5K | ||
checksrc-summary.dcf | 14-Apr-2022 01:07 | 462 | ||
checksrc-out.txt | 14-Apr-2022 01:07 | 3.8K | ||
buildsrc-summary.dcf | 14-Apr-2022 01:07 | 458 | ||
buildsrc-out.txt | 14-Apr-2022 01:07 | 845 | ||
buildbin-summary.dcf | 14-Apr-2022 01:07 | 538 | ||
buildbin-out.txt | 14-Apr-2022 01:07 | 1.9K | ||