![]() | Name | Last modified | Size | Description |
---|---|---|---|---|
![]() | Parent Directory | - | ||
![]() | install-out.txt | 14-Apr-2022 01:07 | 14K | |
![]() | install-summary.dcf | 14-Apr-2022 01:07 | 614 | |
![]() | buildsrc-out.txt | 14-Apr-2022 01:07 | 922 | |
![]() | buildsrc-summary.dcf | 14-Apr-2022 01:07 | 447 | |
![]() | checksrc-out.txt | 14-Apr-2022 01:07 | 5.9K | |
![]() | checksrc-summary.dcf | 14-Apr-2022 01:07 | 450 | |
![]() | buildbin-out.txt | 14-Apr-2022 01:07 | 14K | |
![]() | buildbin-summary.dcf | 14-Apr-2022 01:07 | 522 | |