Index of /checkResults/3.14/bioc-LATEST/SRGnet/raw-results/tokay2
Name
Last modified
Size
Description
Parent Directory
-
buildsrc-out.txt
14-Apr-2022 01:07
929
buildsrc-summary.dcf
14-Apr-2022 01:07
454
install-out.txt
14-Apr-2022 01:07
1.3K
install-summary.dcf
14-Apr-2022 01:07
633