Index of /checkResults/3.14/bioc-LATEST/SRGnet/raw-results/nebbiolo2
Name
Last modified
Size
Description
Parent Directory
-
buildsrc-out.txt
14-Apr-2022 01:06
866
buildsrc-summary.dcf
14-Apr-2022 01:06
330
install-out.txt
14-Apr-2022 01:06
619
install-summary.dcf
14-Apr-2022 01:06
259