Index of /checkResults/3.14/bioc-LATEST/SRGnet/raw-results/machv2
Name
Last modified
Size
Description
Parent Directory
-
install-summary.dcf
14-Apr-2022 01:08
269
install-out.txt
14-Apr-2022 01:08
675
buildsrc-summary.dcf
14-Apr-2022 01:08
340
buildsrc-out.txt
14-Apr-2022 01:08
882