Index of /checkResults/3.14/bioc-LATEST/SRGnet/raw-results/machv2
Name
Last modified
Size
Description
Parent Directory
-
buildsrc-out.txt
14-Apr-2022 01:08
882
buildsrc-summary.dcf
14-Apr-2022 01:08
340
install-out.txt
14-Apr-2022 01:08
675
install-summary.dcf
14-Apr-2022 01:08
269