Name | Last modified | Size | Description | |
---|---|---|---|---|
Parent Directory | - | |||
buildsrc-summary.dcf | 14-Apr-2022 01:07 | 459 | ||
checksrc-summary.dcf | 14-Apr-2022 01:07 | 464 | ||
buildbin-summary.dcf | 14-Apr-2022 01:07 | 542 | ||
install-summary.dcf | 14-Apr-2022 01:07 | 643 | ||
buildsrc-out.txt | 14-Apr-2022 01:07 | 849 | ||
buildbin-out.txt | 14-Apr-2022 01:07 | 2.8K | ||
install-out.txt | 14-Apr-2022 01:07 | 3.6K | ||
checksrc-out.txt | 14-Apr-2022 01:07 | 4.1K | ||