Name | Last modified | Size | Description | |
---|---|---|---|---|
Parent Directory | - | |||
buildsrc-summary.dcf | 14-Apr-2022 01:07 | 440 | ||
checksrc-summary.dcf | 14-Apr-2022 01:07 | 446 | ||
buildbin-summary.dcf | 14-Apr-2022 01:07 | 515 | ||
install-summary.dcf | 14-Apr-2022 01:07 | 604 | ||
buildsrc-out.txt | 14-Apr-2022 01:07 | 917 | ||
buildbin-out.txt | 14-Apr-2022 01:07 | 3.3K | ||
install-out.txt | 14-Apr-2022 01:07 | 4.0K | ||
checksrc-out.txt | 14-Apr-2022 01:07 | 7.0K | ||