Name | Last modified | Size | Description | |
---|---|---|---|---|
Parent Directory | - | |||
install-out.txt | 14-Apr-2022 01:07 | 2.3K | ||
install-summary.dcf | 14-Apr-2022 01:07 | 613 | ||
buildsrc-out.txt | 14-Apr-2022 01:07 | 830 | ||
buildsrc-summary.dcf | 14-Apr-2022 01:07 | 444 | ||
checksrc-out.txt | 14-Apr-2022 01:07 | 3.8K | ||
checksrc-summary.dcf | 14-Apr-2022 01:07 | 450 | ||
buildbin-out.txt | 14-Apr-2022 01:07 | 1.6K | ||
buildbin-summary.dcf | 14-Apr-2022 01:07 | 520 | ||