Back to Multiple platform build/check report for BioC 3.14
ABCDEFGHIJKLMNOPQR[S]TUVWXYZ

This page was generated on 2021-12-03 13:04:34 -0500 (Fri, 03 Dec 2021).

All results for package S4Vectors

To the developers/maintainers of the S4Vectors package:
- Please allow up to 24 hours (and sometimes 48 hours) for your latest push to git@git.bioconductor.org:packages/S4Vectors.git to
reflect on this report. See How and When does the builder pull? When will my changes propagate? here for more information.
- Make sure to use the following settings in order to reproduce any error or warning you see on this page.

raw results

Package 1685/2083HostnameOS / ArchINSTALLBUILDCHECKBUILD BIN
S4Vectors 0.32.3  (landing page)
Bioconductor Package Maintainer
Snapshot Date: 2021-12-02 01:55:06 -0500 (Thu, 02 Dec 2021)
git_url: https://git.bioconductor.org/packages/S4Vectors
git_branch: RELEASE_3_14
git_last_commit: ad90e78
git_last_commit_date: 2021-11-18 06:24:39 -0500 (Thu, 18 Nov 2021)
nebbiolo2Linux (Ubuntu 20.04.3 LTS) / x86_64  OK    OK    WARNINGS  UNNEEDED, same version is already published
tokay2Windows Server 2012 R2 Standard / x64  OK    OK    WARNINGS    OK  UNNEEDED, same version is already published
machv2macOS 10.14.6 Mojave / x86_64  OK    OK    WARNINGS    OK  UNNEEDED, same version is already published

Results for Bioconductor software packages that depend directly on package S4Vectors

QUICK STATSOS / ArchINSTALLBUILDCHECKBUILD BIN
nebbiolo2Linux (Ubuntu 20.04.3 LTS) / x86_64
02585
014573
01583475
tokay2Windows Server 2012 R2 Standard / x64
02574
014562
11784460
00562
machv2macOS 10.14.6 Mojave / x86_64
02583
014571
11681473
00571
Package 1/587HostnameOS / ArchINSTALLBUILDCHECKBUILD BIN
ADImpute 1.4.0  (landing page)
Ana Carolina Leote
git_last_commit: ec8778a
git_last_commit_date: 2021-10-26 13:04:30 -0500
nebbiolo2Linux (Ubuntu 20.04.3 LTS) / x86_64  OK    OK    WARNINGS  UNNEEDED, same version is already published
tokay2Windows Server 2012 R2 Standard / x64  OK    OK    WARNINGS    OK  UNNEEDED, same version is already published
machv2macOS 10.14.6 Mojave / x86_64  OK    OK    WARNINGS    OK  UNNEEDED, same version is already published
Package 2/587HostnameOS / ArchINSTALLBUILDCHECKBUILD BIN
affycoretools 1.66.0  (landing page)
James W. MacDonald
git_last_commit: 6bf769d
git_last_commit_date: 2021-10-26 11:48:47 -0500
nebbiolo2Linux (Ubuntu 20.04.3 LTS) / x86_64  OK    OK    WARNINGS  UNNEEDED, same version is already published
tokay2Windows Server 2012 R2 Standard / x64  OK    OK    WARNINGS    OK  UNNEEDED, same version is already published
machv2macOS 10.14.6 Mojave / x86_64  OK    OK    WARNINGS    OK  UNNEEDED, same version is already published
Package 3/587HostnameOS / ArchINSTALLBUILDCHECKBUILD BIN
aggregateBioVar 1.4.0  (landing page)
Jason Ratcliff
git_last_commit: 0964b9a
git_last_commit_date: 2021-10-26 13:03:14 -0500
nebbiolo2Linux (Ubuntu 20.04.3 LTS) / x86_64  OK    OK    OK  UNNEEDED, same version is already published
tokay2Windows Server 2012 R2 Standard / x64  OK    OK    OK    OK  UNNEEDED, same version is already published
machv2macOS 10.14.6 Mojave / x86_64  OK    OK    OK    OK  UNNEEDED, same version is already published
Package 4/587HostnameOS / ArchINSTALLBUILDCHECKBUILD BIN
airpart 1.2.0  (landing page)
Wancen Mu
git_last_commit: 62f2b32
git_last_commit_date: 2021-10-26 13:08:14 -0500
nebbiolo2Linux (Ubuntu 20.04.3 LTS) / x86_64  OK    OK    OK  UNNEEDED, same version is already published
tokay2Windows Server 2012 R2 Standard / x64  OK    OK    OK    OK  UNNEEDED, same version is already published
machv2macOS 10.14.6 Mojave / x86_64  OK    OK    OK    OK  UNNEEDED, same version is already published
Package 5/587HostnameOS / ArchINSTALLBUILDCHECKBUILD BIN
ALDEx2 1.26.0  (landing page)
Greg Gloor
git_last_commit: 0876a2e
git_last_commit_date: 2021-10-26 12:16:13 -0500
nebbiolo2Linux (Ubuntu 20.04.3 LTS) / x86_64  OK    OK    OK  UNNEEDED, same version is already published
tokay2Windows Server 2012 R2 Standard / x64  OK    OK    OK    OK  UNNEEDED, same version is already published
machv2macOS 10.14.6 Mojave / x86_64  OK    OK    OK    OK  UNNEEDED, same version is already published
Package 6/587HostnameOS / ArchINSTALLBUILDCHECKBUILD BIN
AllelicImbalance 1.32.0  (landing page)
Jesper R Gadin
git_last_commit: 428ab8c
git_last_commit_date: 2021-10-26 12:10:09 -0500
nebbiolo2Linux (Ubuntu 20.04.3 LTS) / x86_64  OK    OK    OK  UNNEEDED, same version is already published
tokay2Windows Server 2012 R2 Standard / x64  OK    OK    OK    OK  UNNEEDED, same version is already published
machv2macOS 10.14.6 Mojave / x86_64  OK    OK    OK    OK  UNNEEDED, same version is already published
Package 7/587HostnameOS / ArchINSTALLBUILDCHECKBUILD BIN
alpine 1.20.0  (landing page)
Michael Love
git_last_commit: 9348ef1
git_last_commit_date: 2021-10-26 12:29:39 -0500
nebbiolo2Linux (Ubuntu 20.04.3 LTS) / x86_64  OK    OK    OK  UNNEEDED, same version is already published
tokay2Windows Server 2012 R2 Standard / x64  OK    OK    OK    OK  UNNEEDED, same version is already published
machv2macOS 10.14.6 Mojave / x86_64  OK    OK    OK    OK  UNNEEDED, same version is already published
Package 8/587HostnameOS / ArchINSTALLBUILDCHECKBUILD BIN
AlpsNMR 3.4.0  (landing page)
Sergio Oller Moreno
git_last_commit: 8ef0246
git_last_commit_date: 2021-10-26 13:05:05 -0500
nebbiolo2Linux (Ubuntu 20.04.3 LTS) / x86_64  OK    OK    OK  UNNEEDED, same version is already published
tokay2Windows Server 2012 R2 Standard / x64  OK    OK    OK    OK  UNNEEDED, same version is already published
machv2macOS 10.14.6 Mojave / x86_64  OK    OK    OK    OK  UNNEEDED, same version is already published
Package 9/587HostnameOS / ArchINSTALLBUILDCHECKBUILD BIN
altcdfenvs 2.56.0  (landing page)
Laurent Gautier
git_last_commit: 941e00b
git_last_commit_date: 2021-10-26 11:46:44 -0500
nebbiolo2Linux (Ubuntu 20.04.3 LTS) / x86_64  OK    OK    OK  UNNEEDED, same version is already published
tokay2Windows Server 2012 R2 Standard / x64  OK    OK    OK    OK  UNNEEDED, same version is already published
machv2macOS 10.14.6 Mojave / x86_64  OK    OK    OK    OK  UNNEEDED, same version is already published
Package 10/587HostnameOS / ArchINSTALLBUILDCHECKBUILD BIN
amplican 1.16.0  (landing page)
Eivind Valen
git_last_commit: afffd18
git_last_commit_date: 2021-10-26 12:37:57 -0500
nebbiolo2Linux (Ubuntu 20.04.3 LTS) / x86_64  OK    OK    OK  UNNEEDED, same version is already published
tokay2Windows Server 2012 R2 Standard / x64  OK    OK    OK    OK  UNNEEDED, same version is already published
machv2macOS 10.14.6 Mojave / x86_64  OK    OK    OK    OK  UNNEEDED, same version is already published
Package 11/587HostnameOS / ArchINSTALLBUILDCHECKBUILD BIN
AneuFinder 1.22.0  (landing page)
Aaron Taudt
git_last_commit: ea0beb3
git_last_commit_date: 2021-10-26 12:26:30 -0500
nebbiolo2Linux (Ubuntu 20.04.3 LTS) / x86_64  OK    OK    OK  UNNEEDED, same version is already published
tokay2Windows Server 2012 R2 Standard / x64  OK    OK    OK    OK  UNNEEDED, same version is already published
machv2macOS 10.14.6 Mojave / x86_64  OK    OK    OK    OK  UNNEEDED, same version is already published
Package 12/587HostnameOS / ArchINSTALLBUILDCHECKBUILD BIN
animalcules 1.10.0  (landing page)
Yue Zhao
git_last_commit: 4c16173
git_last_commit_date: 2021-10-26 12:51:53 -0500
nebbiolo2Linux (Ubuntu 20.04.3 LTS) / x86_64  OK    OK    OK  UNNEEDED, same version is already published
tokay2Windows Server 2012 R2 Standard / x64  OK    OK    OK    OK  UNNEEDED, same version is already published
machv2macOS 10.14.6 Mojave / x86_64  OK    OK    OK    OK  UNNEEDED, same version is already published
Package 13/587HostnameOS / ArchINSTALLBUILDCHECKBUILD BIN
AnnotationDbi 1.56.2  (landing page)
Bioconductor Package Maintainer
git_last_commit: 13fdc4a
git_last_commit_date: 2021-11-09 12:05:33 -0500
nebbiolo2Linux (Ubuntu 20.04.3 LTS) / x86_64  OK    OK    OK  UNNEEDED, same version is already published
tokay2Windows Server 2012 R2 Standard / x64  OK    OK    OK    OK  UNNEEDED, same version is already published
machv2macOS 10.14.6 Mojave / x86_64  OK    OK    OK    OK  UNNEEDED, same version is already published
Package 14/587HostnameOS / ArchINSTALLBUILDCHECKBUILD BIN
AnnotationForge 1.36.0  (landing page)
Bioconductor Package Maintainer
git_last_commit: 523b5f0
git_last_commit_date: 2021-10-26 12:03:32 -0500
nebbiolo2Linux (Ubuntu 20.04.3 LTS) / x86_64  OK    OK    OK  UNNEEDED, same version is already published
tokay2Windows Server 2012 R2 Standard / x64  OK    OK    OK    OK  UNNEEDED, same version is already published
machv2macOS 10.14.6 Mojave / x86_64  OK    OK    OK    OK  UNNEEDED, same version is already published
Package 15/587HostnameOS / ArchINSTALLBUILDCHECKBUILD BIN
AnnotationHub 3.2.0  (landing page)
Bioconductor Package Maintainer
git_last_commit: 873fb33
git_last_commit_date: 2021-10-26 12:07:32 -0500
nebbiolo2Linux (Ubuntu 20.04.3 LTS) / x86_64  OK    OK    WARNINGS  UNNEEDED, same version is already published
tokay2Windows Server 2012 R2 Standard / x64  OK    OK    WARNINGS    OK  UNNEEDED, same version is already published
machv2macOS 10.14.6 Mojave / x86_64  OK    OK    WARNINGS    OK  UNNEEDED, same version is already published
Package 16/587HostnameOS / ArchINSTALLBUILDCHECKBUILD BIN
AnnotationHubData 1.24.1  (landing page)
Bioconductor Package Maintainer
git_last_commit: c665598
git_last_commit_date: 2021-11-24 12:54:20 -0500
nebbiolo2Linux (Ubuntu 20.04.3 LTS) / x86_64  OK    OK    WARNINGS  UNNEEDED, same version is already published
tokay2Windows Server 2012 R2 Standard / x64  OK    OK    WARNINGS    OK  UNNEEDED, same version is already published
machv2macOS 10.14.6 Mojave / x86_64  OK    OK    WARNINGS    OK  UNNEEDED, same version is already published
Package 17/587HostnameOS / ArchINSTALLBUILDCHECKBUILD BIN
annotatr 1.20.0  (landing page)
Raymond G. Cavalcante
git_last_commit: aa03096
git_last_commit_date: 2021-10-26 12:30:59 -0500
nebbiolo2Linux (Ubuntu 20.04.3 LTS) / x86_64  OK    OK    OK  UNNEEDED, same version is already published
tokay2Windows Server 2012 R2 Standard / x64  OK    OK    OK    OK  UNNEEDED, same version is already published
machv2macOS 10.14.6 Mojave / x86_64  OK    OK    OK    OK  UNNEEDED, same version is already published
Package 18/587HostnameOS / ArchINSTALLBUILDCHECKBUILD BIN
appreci8R 1.12.0  (landing page)
Sarah Sandmann
git_last_commit: a9fde70
git_last_commit_date: 2021-10-26 12:45:40 -0500
nebbiolo2Linux (Ubuntu 20.04.3 LTS) / x86_64  OK    OK    OK  UNNEEDED, same version is already published
tokay2Windows Server 2012 R2 Standard / x64  OK    OK    OK    OK  UNNEEDED, same version is already published
machv2macOS 10.14.6 Mojave / x86_64  OK    OK    OK    OK  UNNEEDED, same version is already published
Package 19/587HostnameOS / ArchINSTALLBUILDCHECKBUILD BIN
ASpediaFI 1.8.0  (landing page)
Doyeong Yu
git_last_commit: 4066ac0
git_last_commit_date: 2021-10-26 12:55:23 -0500
nebbiolo2Linux (Ubuntu 20.04.3 LTS) / x86_64  OK    OK    OK  UNNEEDED, same version is already published
tokay2Windows Server 2012 R2 Standard / x64  OK    OK    OK    OK  UNNEEDED, same version is already published
machv2macOS 10.14.6 Mojave / x86_64  OK    OK    OK    OK  UNNEEDED, same version is already published
Package 20/587HostnameOS / ArchINSTALLBUILDCHECKBUILD BIN
ASpli 2.4.0  (landing page)
Estefania Mancini
git_last_commit: 9dad6f1
git_last_commit_date: 2021-10-26 12:29:18 -0500
nebbiolo2Linux (Ubuntu 20.04.3 LTS) / x86_64  OK    OK    OK  UNNEEDED, same version is already published
tokay2Windows Server 2012 R2 Standard / x64  OK    OK    OK    OK  UNNEEDED, same version is already published
machv2macOS 10.14.6 Mojave / x86_64  OK    OK    OK    OK  UNNEEDED, same version is already published
Package 21/587HostnameOS / ArchINSTALLBUILDCHECKBUILD BIN
ATACseqQC 1.18.0  (landing page)
Jianhong Ou
git_last_commit: eeaad0d
git_last_commit_date: 2021-10-26 12:35:11 -0500
nebbiolo2Linux (Ubuntu 20.04.3 LTS) / x86_64  OK    OK    OK  UNNEEDED, same version is already published
tokay2Windows Server 2012 R2 Standard / x64  OK    OK    OK    OK  UNNEEDED, same version is already published
machv2macOS 10.14.6 Mojave / x86_64  OK    OK    OK    OK  UNNEEDED, same version is already published
Package 22/587HostnameOS / ArchINSTALLBUILDCHECKBUILD BIN
atena 1.0.1  (landing page)
Beatriz Calvo-Serra
git_last_commit: 5bc457c
git_last_commit_date: 2021-11-05 07:41:58 -0500
nebbiolo2Linux (Ubuntu 20.04.3 LTS) / x86_64  OK    OK    OK  UNNEEDED, same version is already published
tokay2Windows Server 2012 R2 Standard / x64  OK    OK    OK    OK  UNNEEDED, same version is already published
machv2macOS 10.14.6 Mojave / x86_64  OK    OK    OK    OK  UNNEEDED, same version is already published
Package 23/587HostnameOS / ArchINSTALLBUILDCHECKBUILD BIN
AUCell 1.16.0  (landing page)
Sara Aibar
git_last_commit: dfde2b6
git_last_commit_date: 2021-10-26 12:38:06 -0500
nebbiolo2Linux (Ubuntu 20.04.3 LTS) / x86_64  OK    OK    OK  UNNEEDED, same version is already published
tokay2Windows Server 2012 R2 Standard / x64  OK    OK    OK    OK  UNNEEDED, same version is already published
machv2macOS 10.14.6 Mojave / x86_64  OK    OK    OK    OK  UNNEEDED, same version is already published
Package 24/587HostnameOS / ArchINSTALLBUILDCHECKBUILD BIN
autonomics 1.2.0  (landing page)
Aditya Bhagwat
git_last_commit: f775f33
git_last_commit_date: 2021-10-26 13:07:36 -0500
nebbiolo2Linux (Ubuntu 20.04.3 LTS) / x86_64  OK    OK    WARNINGS  UNNEEDED, same version is already published
tokay2Windows Server 2012 R2 Standard / x64  OK    OK    WARNINGS    OK  UNNEEDED, same version is already published
machv2macOS 10.14.6 Mojave / x86_64  OK    OK    WARNINGS    OK  UNNEEDED, same version is already published
Package 25/587HostnameOS / ArchINSTALLBUILDCHECKBUILD BIN
BadRegionFinder 1.22.0  (landing page)
Sarah Sandmann
git_last_commit: e9d52d0
git_last_commit_date: 2021-10-26 12:26:51 -0500
nebbiolo2Linux (Ubuntu 20.04.3 LTS) / x86_64  OK    OK    OK  UNNEEDED, same version is already published
tokay2Windows Server 2012 R2 Standard / x64  OK    OK    OK    OK  UNNEEDED, same version is already published
machv2macOS 10.14.6 Mojave / x86_64  OK    OK    OK    OK  UNNEEDED, same version is already published
Package 26/587HostnameOS / ArchINSTALLBUILDCHECKBUILD BIN
ballgown 2.26.0  (landing page)
Jack Fu
git_last_commit: 4f1dda8
git_last_commit_date: 2021-10-26 12:14:54 -0500
nebbiolo2Linux (Ubuntu 20.04.3 LTS) / x86_64  OK    OK    OK  UNNEEDED, same version is already published
tokay2Windows Server 2012 R2 Standard / x64  OK    OK    OK    OK  UNNEEDED, same version is already published
machv2macOS 10.14.6 Mojave / x86_64  OK    OK    OK    OK  UNNEEDED, same version is already published
Package 27/587HostnameOS / ArchINSTALLBUILDCHECKBUILD BIN
bambu 2.0.1  (landing page)
Ying Chen
git_last_commit: 16a6d66
git_last_commit_date: 2021-11-22 21:16:11 -0500
nebbiolo2Linux (Ubuntu 20.04.3 LTS) / x86_64  OK    OK    OK  UNNEEDED, same version is already published
tokay2Windows Server 2012 R2 Standard / x64  OK    OK    OK    OK  UNNEEDED, same version is already published
machv2macOS 10.14.6 Mojave / x86_64  OK    OK    OK    OK  UNNEEDED, same version is already published
Package 28/587HostnameOS / ArchINSTALLBUILDCHECKBUILD BIN
barcodetrackR 1.2.0  (landing page)
Diego Alexander Espinoza
git_last_commit: 29ecd67
git_last_commit_date: 2021-10-26 13:08:19 -0500
nebbiolo2Linux (Ubuntu 20.04.3 LTS) / x86_64  OK    OK    OK  UNNEEDED, same version is already published
tokay2Windows Server 2012 R2 Standard / x64  OK    OK    OK    OK  UNNEEDED, same version is already published
machv2macOS 10.14.6 Mojave / x86_64  OK    OK    OK    OK  UNNEEDED, same version is already published
Package 29/587HostnameOS / ArchINSTALLBUILDCHECKBUILD BIN
BASiCS 2.6.0  (landing page)
Alan O'Callaghan
git_last_commit: 4c9d804
git_last_commit_date: 2021-10-26 12:38:26 -0500
nebbiolo2Linux (Ubuntu 20.04.3 LTS) / x86_64  OK    OK    OK  UNNEEDED, same version is already published
tokay2Windows Server 2012 R2 Standard / x64  OK    OK    OK    OK  UNNEEDED, same version is already published
machv2macOS 10.14.6 Mojave / x86_64  OK    OK    OK    OK  UNNEEDED, same version is already published
Package 30/587HostnameOS / ArchINSTALLBUILDCHECKBUILD BIN
BasicSTARRseq 1.22.0  (landing page)
Annika Buerger
git_last_commit: 8cdecc2
git_last_commit_date: 2021-10-26 12:25:08 -0500
nebbiolo2Linux (Ubuntu 20.04.3 LTS) / x86_64  OK    OK    OK  UNNEEDED, same version is already published
tokay2Windows Server 2012 R2 Standard / x64  OK    OK    OK    OK  UNNEEDED, same version is already published
machv2macOS 10.14.6 Mojave / x86_64  OK    OK    OK    OK  UNNEEDED, same version is already published
Package 31/587HostnameOS / ArchINSTALLBUILDCHECKBUILD BIN
batchelor 1.10.0  (landing page)
Aaron Lun
git_last_commit: fbbcf91
git_last_commit_date: 2021-10-26 12:50:33 -0500
nebbiolo2Linux (Ubuntu 20.04.3 LTS) / x86_64  OK    OK    OK  UNNEEDED, same version is already published
tokay2Windows Server 2012 R2 Standard / x64  OK    OK    OK    OK  UNNEEDED, same version is already published
machv2macOS 10.14.6 Mojave / x86_64  OK    OK    OK    OK  UNNEEDED, same version is already published
Package 32/587HostnameOS / ArchINSTALLBUILDCHECKBUILD BIN
BayesSpace 1.4.1  (landing page)
Matt Stone
git_last_commit: c421c9d
git_last_commit_date: 2021-11-09 17:29:11 -0500
nebbiolo2Linux (Ubuntu 20.04.3 LTS) / x86_64  OK    OK    OK  UNNEEDED, same version is already published
tokay2Windows Server 2012 R2 Standard / x64  OK    OK    OK    OK  UNNEEDED, same version is already published
machv2macOS 10.14.6 Mojave / x86_64  OK    OK    OK    OK  UNNEEDED, same version is already published
Package 33/587HostnameOS / ArchINSTALLBUILDCHECKBUILD BIN
BindingSiteFinder 1.0.0  (landing page)
Mirko Brüggemann
git_last_commit: be6256c
git_last_commit_date: 2021-10-26 13:11:23 -0500
nebbiolo2Linux (Ubuntu 20.04.3 LTS) / x86_64  OK    OK    OK  UNNEEDED, same version is already published
tokay2Windows Server 2012 R2 Standard / x64  OK    OK    OK    OK  UNNEEDED, same version is already published
machv2macOS 10.14.6 Mojave / x86_64  OK    OK    OK    OK  UNNEEDED, same version is already published
Package 34/587HostnameOS / ArchINSTALLBUILDCHECKBUILD BIN
BiocIO 1.4.0  (landing page)
Bioconductor Package Maintainer
git_last_commit: c335932
git_last_commit_date: 2021-10-26 13:01:59 -0500
nebbiolo2Linux (Ubuntu 20.04.3 LTS) / x86_64  OK    OK    OK  UNNEEDED, same version is already published
tokay2Windows Server 2012 R2 Standard / x64  OK    OK    OK    OK  UNNEEDED, same version is already published
machv2macOS 10.14.6 Mojave / x86_64  OK    OK    OK    OK  UNNEEDED, same version is already published
Package 35/587HostnameOS / ArchINSTALLBUILDCHECKBUILD BIN
BiocNeighbors 1.12.0  (landing page)
Aaron Lun
git_last_commit: 3c8a290
git_last_commit_date: 2021-10-26 12:45:33 -0500
nebbiolo2Linux (Ubuntu 20.04.3 LTS) / x86_64  OK    OK    OK  UNNEEDED, same version is already published
tokay2Windows Server 2012 R2 Standard / x64  OK    OK    OK    OK  UNNEEDED, same version is already published
machv2macOS 10.14.6 Mojave / x86_64  OK    OK    OK    OK  UNNEEDED, same version is already published
Package 36/587HostnameOS / ArchINSTALLBUILDCHECKBUILD BIN
BiocOncoTK 1.14.0  (landing page)
VJ Carey
git_last_commit: e958795
git_last_commit_date: 2021-10-26 12:44:33 -0500
nebbiolo2Linux (Ubuntu 20.04.3 LTS) / x86_64  OK    OK    OK  UNNEEDED, same version is already published
tokay2Windows Server 2012 R2 Standard / x64  OK    OK    OK    OK  UNNEEDED, same version is already published
machv2macOS 10.14.6 Mojave / x86_64  OK    OK    OK    OK  UNNEEDED, same version is already published
Package 37/587HostnameOS / ArchINSTALLBUILDCHECKBUILD BIN
BiocSet 1.8.1  (landing page)
Kayla Morrell
git_last_commit: 1f7d340
git_last_commit_date: 2021-11-02 15:26:58 -0500
nebbiolo2Linux (Ubuntu 20.04.3 LTS) / x86_64  OK    OK    OK  UNNEEDED, same version is already published
tokay2Windows Server 2012 R2 Standard / x64  OK    OK    OK    OK  UNNEEDED, same version is already published
machv2macOS 10.14.6 Mojave / x86_64  OK    OK    OK    OK  UNNEEDED, same version is already published
Package 38/587HostnameOS / ArchINSTALLBUILDCHECKBUILD BIN
BiocSingular 1.10.0  (landing page)
Aaron Lun
git_last_commit: 6615ae8
git_last_commit_date: 2021-10-26 12:49:33 -0500
nebbiolo2Linux (Ubuntu 20.04.3 LTS) / x86_64  OK    OK    OK  UNNEEDED, same version is already published
tokay2Windows Server 2012 R2 Standard / x64  OK    OK    OK    OK  UNNEEDED, same version is already published
machv2macOS 10.14.6 Mojave / x86_64  OK    OK    OK    OK  UNNEEDED, same version is already published
Package 39/587HostnameOS / ArchINSTALLBUILDCHECKBUILD BIN
Biostrings 2.62.0  (landing page)
H. Pagès
git_last_commit: 53ed287
git_last_commit_date: 2021-10-26 11:46:31 -0500
nebbiolo2Linux (Ubuntu 20.04.3 LTS) / x86_64  OK    OK    WARNINGS  UNNEEDED, same version is already published
tokay2Windows Server 2012 R2 Standard / x64  OK    OK    WARNINGS    OK  UNNEEDED, same version is already published
machv2macOS 10.14.6 Mojave / x86_64  OK    OK    WARNINGS    OK  UNNEEDED, same version is already published
Package 40/587HostnameOS / ArchINSTALLBUILDCHECKBUILD BIN
biotmle 1.18.0  (landing page)
Nima Hejazi
git_last_commit: a95145b
git_last_commit_date: 2021-10-26 12:34:49 -0500
nebbiolo2Linux (Ubuntu 20.04.3 LTS) / x86_64  OK    OK    OK  UNNEEDED, same version is already published
tokay2Windows Server 2012 R2 Standard / x64  OK    OK    OK    OK  UNNEEDED, same version is already published
machv2macOS 10.14.6 Mojave / x86_64  OK    OK    OK    OK  UNNEEDED, same version is already published
Package 41/587HostnameOS / ArchINSTALLBUILDCHECKBUILD BIN
biovizBase 1.42.0  (landing page)
Michael Lawrence
git_last_commit: f1627b2
git_last_commit_date: 2021-10-26 12:00:34 -0500
nebbiolo2Linux (Ubuntu 20.04.3 LTS) / x86_64  OK    OK    WARNINGS  UNNEEDED, same version is already published
tokay2Windows Server 2012 R2 Standard / x64  OK    OK    WARNINGS    OK  UNNEEDED, same version is already published
machv2macOS 10.14.6 Mojave / x86_64  OK    OK    WARNINGS    OK  UNNEEDED, same version is already published
Package 42/587HostnameOS / ArchINSTALLBUILDCHECKBUILD BIN
biscuiteer 1.8.0  (landing page)
"Jacob Morrison"
git_last_commit: 2a5989a
git_last_commit_date: 2021-10-26 12:55:31 -0500
nebbiolo2Linux (Ubuntu 20.04.3 LTS) / x86_64  OK    OK    WARNINGS  UNNEEDED, same version is already published
tokay2Windows Server 2012 R2 Standard / x64  OK    OK    WARNINGS    OK  UNNEEDED, same version is already published
machv2macOS 10.14.6 Mojave / x86_64  OK    OK    WARNINGS    OK  UNNEEDED, same version is already published
Package 43/587HostnameOS / ArchINSTALLBUILDCHECKBUILD BIN
BiSeq 1.34.0  (landing page)
Katja Hebestreit
git_last_commit: 5d4449a
git_last_commit_date: 2021-10-26 12:07:58 -0500
nebbiolo2Linux (Ubuntu 20.04.3 LTS) / x86_64  OK    OK    OK  UNNEEDED, same version is already published
tokay2Windows Server 2012 R2 Standard / x64  OK    OK    OK    OK  UNNEEDED, same version is already published
machv2macOS 10.14.6 Mojave / x86_64  OK    OK    OK    OK  UNNEEDED, same version is already published
Package 44/587HostnameOS / ArchINSTALLBUILDCHECKBUILD BIN
BitSeq 1.38.0  (landing page)
Antti Honkela , Panagiotis Papastamoulis
git_last_commit: 7a8f12b
git_last_commit_date: 2021-10-26 12:02:43 -0500
nebbiolo2Linux (Ubuntu 20.04.3 LTS) / x86_64  OK    OK    WARNINGS  UNNEEDED, same version is already published
tokay2Windows Server 2012 R2 Standard / x64  OK    OK    WARNINGS    OK  UNNEEDED, same version is already published
machv2macOS 10.14.6 Mojave / x86_64  OK    OK    WARNINGS    OK  UNNEEDED, same version is already published
Package 45/587HostnameOS / ArchINSTALLBUILDCHECKBUILD BIN
bluster 1.4.0  (landing page)
Aaron Lun
git_last_commit: 6f4b821
git_last_commit_date: 2021-10-26 13:01:06 -0500
nebbiolo2Linux (Ubuntu 20.04.3 LTS) / x86_64  OK    OK    OK  UNNEEDED, same version is already published
tokay2Windows Server 2012 R2 Standard / x64  OK    OK    OK    OK  UNNEEDED, same version is already published
machv2macOS 10.14.6 Mojave / x86_64  OK    OK    OK    OK  UNNEEDED, same version is already published
Package 46/587HostnameOS / ArchINSTALLBUILDCHECKBUILD BIN
bnbc 1.16.0  (landing page)
Kipper Fletez-Brant
git_last_commit: 26377da
git_last_commit_date: 2021-10-26 12:39:02 -0500
nebbiolo2Linux (Ubuntu 20.04.3 LTS) / x86_64  OK    OK    OK  UNNEEDED, same version is already published
tokay2Windows Server 2012 R2 Standard / x64  OK    OK    OK    OK  UNNEEDED, same version is already published
machv2macOS 10.14.6 Mojave / x86_64  OK    OK    OK    OK  UNNEEDED, same version is already published
Package 47/587HostnameOS / ArchINSTALLBUILDCHECKBUILD BIN
BPRMeth 1.20.0  (landing page)
Chantriolnt-Andreas Kapourani
git_last_commit: 0135f88
git_last_commit_date: 2021-10-26 12:31:31 -0500
nebbiolo2Linux (Ubuntu 20.04.3 LTS) / x86_64  OK    OK    OK  UNNEEDED, same version is already published
tokay2Windows Server 2012 R2 Standard / x64  OK    OK    OK    OK  UNNEEDED, same version is already published
machv2macOS 10.14.6 Mojave / x86_64  OK    OK    OK    OK  UNNEEDED, same version is already published
Package 48/587HostnameOS / ArchINSTALLBUILDCHECKBUILD BIN
BrainSABER 1.4.0  (landing page)
USD Biomedical Engineering
git_last_commit: 27ae2bc
git_last_commit_date: 2021-10-26 12:59:58 -0500
nebbiolo2Linux (Ubuntu 20.04.3 LTS) / x86_64  OK    ERROR  skipped
tokay2Windows Server 2012 R2 Standard / x64  OK    OK    OK    OK  UNNEEDED, same version is already published
machv2macOS 10.14.6 Mojave / x86_64  OK    ERROR  skippedskipped
Package 49/587HostnameOS / ArchINSTALLBUILDCHECKBUILD BIN
branchpointer 1.20.0  (landing page)
Beth Signal
git_last_commit: 09d2e40
git_last_commit_date: 2021-10-26 12:33:49 -0500
nebbiolo2Linux (Ubuntu 20.04.3 LTS) / x86_64  OK    OK    OK  UNNEEDED, same version is already published
tokay2Windows Server 2012 R2 Standard / x64  OK    OK    OK    OK  UNNEEDED, same version is already published
machv2macOS 10.14.6 Mojave / x86_64  OK    ERROR  skippedskipped
Package 50/587HostnameOS / ArchINSTALLBUILDCHECKBUILD BIN
breakpointR 1.12.0  (landing page)
David Porubsky
git_last_commit: 1624453
git_last_commit_date: 2021-10-26 12:46:54 -0500
nebbiolo2Linux (Ubuntu 20.04.3 LTS) / x86_64  OK    OK    OK  UNNEEDED, same version is already published
tokay2Windows Server 2012 R2 Standard / x64  OK    OK    OK    OK  UNNEEDED, same version is already published
machv2macOS 10.14.6 Mojave / x86_64  OK    OK    OK    OK  UNNEEDED, same version is already published
Package 51/587HostnameOS / ArchINSTALLBUILDCHECKBUILD BIN
BRGenomics 1.6.0  (landing page)
Mike DeBerardine
git_last_commit: ff5ff54
git_last_commit_date: 2021-10-26 12:58:20 -0500
nebbiolo2Linux (Ubuntu 20.04.3 LTS) / x86_64  OK    OK    WARNINGS  UNNEEDED, same version is already published
tokay2Windows Server 2012 R2 Standard / x64  OK    OK    WARNINGS    OK  UNNEEDED, same version is already published
machv2macOS 10.14.6 Mojave / x86_64  OK    OK    WARNINGS    OK  UNNEEDED, same version is already published
Package 52/587HostnameOS / ArchINSTALLBUILDCHECKBUILD BIN
BSgenome 1.62.0  (landing page)
H. Pagès
git_last_commit: 9b1859e
git_last_commit_date: 2021-10-26 11:49:47 -0500
nebbiolo2Linux (Ubuntu 20.04.3 LTS) / x86_64  OK    OK    WARNINGS  UNNEEDED, same version is already published
tokay2Windows Server 2012 R2 Standard / x64  OK    OK    WARNINGS    OK  UNNEEDED, same version is already published
machv2macOS 10.14.6 Mojave / x86_64  OK    OK    WARNINGS    OK  UNNEEDED, same version is already published
Package 53/587HostnameOS / ArchINSTALLBUILDCHECKBUILD BIN
bsseq 1.30.0  (landing page)
Kasper Daniel Hansen
git_last_commit: 7eb5223
git_last_commit_date: 2021-10-26 12:03:49 -0500
nebbiolo2Linux (Ubuntu 20.04.3 LTS) / x86_64  OK    OK    OK  UNNEEDED, same version is already published
tokay2Windows Server 2012 R2 Standard / x64  OK    OK    OK    OK  UNNEEDED, same version is already published
machv2macOS 10.14.6 Mojave / x86_64  OK    OK    OK    OK  UNNEEDED, same version is already published
Package 54/587HostnameOS / ArchINSTALLBUILDCHECKBUILD BIN
bumphunter 1.36.0  (landing page)
Tamilselvi Guharaj
git_last_commit: db50fcf
git_last_commit_date: 2021-10-27 13:17:03 -0500
nebbiolo2Linux (Ubuntu 20.04.3 LTS) / x86_64  OK    OK    ERROR  
tokay2Windows Server 2012 R2 Standard / x64  OK    OK    OK    OK  UNNEEDED, same version is already published
machv2macOS 10.14.6 Mojave / x86_64  OK    OK    ERROR    OK  
Package 55/587HostnameOS / ArchINSTALLBUILDCHECKBUILD BIN
BumpyMatrix 1.2.0  (landing page)
Aaron Lun
git_last_commit: 155531a
git_last_commit_date: 2021-10-26 13:06:08 -0500
nebbiolo2Linux (Ubuntu 20.04.3 LTS) / x86_64  OK    OK    OK  UNNEEDED, same version is already published
tokay2Windows Server 2012 R2 Standard / x64  OK    OK    OK    OK  UNNEEDED, same version is already published
machv2macOS 10.14.6 Mojave / x86_64  OK    OK    OK    OK  UNNEEDED, same version is already published
Package 56/587HostnameOS / ArchINSTALLBUILDCHECKBUILD BIN
BUSpaRse 1.8.0  (landing page)
Lambda Moses
git_last_commit: fa528cf
git_last_commit_date: 2021-10-26 12:53:45 -0500
nebbiolo2Linux (Ubuntu 20.04.3 LTS) / x86_64  OK    OK    OK  UNNEEDED, same version is already published
tokay2Windows Server 2012 R2 Standard / x64  OK    OK    OK    OK  UNNEEDED, same version is already published
machv2macOS 10.14.6 Mojave / x86_64  OK    OK    OK    OK  UNNEEDED, same version is already published
Package 57/587HostnameOS / ArchINSTALLBUILDCHECKBUILD BIN
BUSseq 1.0.0  (landing page)
Fangda Song
git_last_commit: aae9920
git_last_commit_date: 2021-10-26 13:10:51 -0500
nebbiolo2Linux (Ubuntu 20.04.3 LTS) / x86_64  OK    OK    OK  UNNEEDED, same version is already published
tokay2Windows Server 2012 R2 Standard / x64  OK    OK    OK    OK  UNNEEDED, same version is already published
machv2macOS 10.14.6 Mojave / x86_64  OK    OK    OK    OK  UNNEEDED, same version is already published
Package 58/587HostnameOS / ArchINSTALLBUILDCHECKBUILD BIN
CAGEfightR 1.14.0  (landing page)
Malte Thodberg
git_last_commit: 6c27321
git_last_commit_date: 2021-10-26 12:44:41 -0500
nebbiolo2Linux (Ubuntu 20.04.3 LTS) / x86_64  OK    OK    OK  UNNEEDED, same version is already published
tokay2Windows Server 2012 R2 Standard / x64  OK    OK    OK    OK  UNNEEDED, same version is already published
machv2macOS 10.14.6 Mojave / x86_64  OK    OK    OK    OK  UNNEEDED, same version is already published
Package 59/587HostnameOS / ArchINSTALLBUILDCHECKBUILD BIN
CAGEr 2.0.2  (landing page)
Charles Plessy
git_last_commit: 9218aa9
git_last_commit_date: 2021-11-16 19:37:08 -0500
nebbiolo2Linux (Ubuntu 20.04.3 LTS) / x86_64  OK    OK    OK  UNNEEDED, same version is already published
tokay2Windows Server 2012 R2 Standard / x64  OK    OK    OK    OK  UNNEEDED, same version is already published
machv2macOS 10.14.6 Mojave / x86_64  OK    OK    OK    OK  UNNEEDED, same version is already published
Package 60/587HostnameOS / ArchINSTALLBUILDCHECKBUILD BIN
Cardinal 2.12.0  (landing page)
Kylie A. Bemis
git_last_commit: a9cad46
git_last_commit_date: 2021-10-26 12:18:42 -0500
nebbiolo2Linux (Ubuntu 20.04.3 LTS) / x86_64  OK    OK    OK  UNNEEDED, same version is already published
tokay2Windows Server 2012 R2 Standard / x64  OK    OK    OK    OK  UNNEEDED, same version is already published
machv2macOS 10.14.6 Mojave / x86_64  OK    OK    OK    OK  UNNEEDED, same version is already published
Package 61/587HostnameOS / ArchINSTALLBUILDCHECKBUILD BIN
casper 2.28.0  (landing page)
David Rossell
git_last_commit: 479cb8d
git_last_commit_date: 2021-10-26 12:06:23 -0500
nebbiolo2Linux (Ubuntu 20.04.3 LTS) / x86_64  OK    OK    WARNINGS  UNNEEDED, same version is already published
tokay2Windows Server 2012 R2 Standard / x64  OK    OK    WARNINGS    OK  UNNEEDED, same version is already published
machv2macOS 10.14.6 Mojave / x86_64  OK    OK    WARNINGS    OK  UNNEEDED, same version is already published
Package 62/587HostnameOS / ArchINSTALLBUILDCHECKBUILD BIN
CATALYST 1.18.0  (landing page)
Helena L. Crowell
git_last_commit: aa3b9c4
git_last_commit_date: 2021-10-26 12:34:36 -0500
nebbiolo2Linux (Ubuntu 20.04.3 LTS) / x86_64  OK    OK    OK  UNNEEDED, same version is already published
tokay2Windows Server 2012 R2 Standard / x64  OK    OK    OK    OK  UNNEEDED, same version is already published
machv2macOS 10.14.6 Mojave / x86_64  OK    OK    OK    OK  UNNEEDED, same version is already published
Package 63/587HostnameOS / ArchINSTALLBUILDCHECKBUILD BIN
cBioPortalData 2.6.0  (landing page)
Marcel Ramos
git_last_commit: d8a1095
git_last_commit_date: 2021-10-26 12:59:53 -0500
nebbiolo2Linux (Ubuntu 20.04.3 LTS) / x86_64  OK    OK    WARNINGS  UNNEEDED, same version is already published
tokay2Windows Server 2012 R2 Standard / x64  OK    OK    WARNINGS    OK  UNNEEDED, same version is already published
machv2macOS 10.14.6 Mojave / x86_64  OK    OK    WARNINGS    OK  UNNEEDED, same version is already published
Package 64/587HostnameOS / ArchINSTALLBUILDCHECKBUILD BIN
ccfindR 1.14.0  (landing page)
Jun Woo
git_last_commit: 316c420
git_last_commit_date: 2021-10-26 12:44:22 -0500
nebbiolo2Linux (Ubuntu 20.04.3 LTS) / x86_64  OK    OK    OK  UNNEEDED, same version is already published
tokay2Windows Server 2012 R2 Standard / x64  OK    OK    OK    OK  UNNEEDED, same version is already published
machv2macOS 10.14.6 Mojave / x86_64  OK    OK    OK    OK  UNNEEDED, same version is already published
Package 65/587HostnameOS / ArchINSTALLBUILDCHECKBUILD BIN
celaref 1.12.0  (landing page)
Sarah Williams
git_last_commit: 45b360b
git_last_commit_date: 2021-10-26 12:46:08 -0500
nebbiolo2Linux (Ubuntu 20.04.3 LTS) / x86_64  OK    OK    OK  UNNEEDED, same version is already published
tokay2Windows Server 2012 R2 Standard / x64  OK    OK    OK    OK  UNNEEDED, same version is already published
machv2macOS 10.14.6 Mojave / x86_64  OK    OK    OK    OK  UNNEEDED, same version is already published
Package 66/587HostnameOS / ArchINSTALLBUILDCHECKBUILD BIN
celda 1.10.0  (landing page)
Joshua Campbell
git_last_commit: fb720ad
git_last_commit_date: 2021-10-26 12:52:02 -0500
nebbiolo2Linux (Ubuntu 20.04.3 LTS) / x86_64  OK    OK    OK  UNNEEDED, same version is already published
tokay2Windows Server 2012 R2 Standard / x64  OK    OK    OK    OK  UNNEEDED, same version is already published
machv2macOS 10.14.6 Mojave / x86_64  OK    OK    OK    OK  UNNEEDED, same version is already published
Package 67/587HostnameOS / ArchINSTALLBUILDCHECKBUILD BIN
CellaRepertorium 1.4.0  (landing page)
Andrew McDavid
git_last_commit: ee7f173
git_last_commit_date: 2021-10-26 13:04:40 -0500
nebbiolo2Linux (Ubuntu 20.04.3 LTS) / x86_64  OK    OK    OK  UNNEEDED, same version is already published
tokay2Windows Server 2012 R2 Standard / x64  OK    OK    OK    OK  UNNEEDED, same version is already published
machv2macOS 10.14.6 Mojave / x86_64  OK    OK    OK    OK  UNNEEDED, same version is already published
Package 68/587HostnameOS / ArchINSTALLBUILDCHECKBUILD BIN
CellBarcode 1.0.0  (landing page)
Wenjie Sun
git_last_commit: 62e29f1
git_last_commit_date: 2021-10-26 13:14:06 -0500
nebbiolo2Linux (Ubuntu 20.04.3 LTS) / x86_64  OK    OK    OK  UNNEEDED, same version is already published
tokay2Windows Server 2012 R2 Standard / x64  OK    OK    OK    OK  UNNEEDED, same version is already published
machv2macOS 10.14.6 Mojave / x86_64  OK    OK    OK    OK  UNNEEDED, same version is already published
Package 69/587HostnameOS / ArchINSTALLBUILDCHECKBUILD BIN
CellMapper 1.20.0  (landing page)
Brad Nelms
git_last_commit: d49bd75
git_last_commit_date: 2021-10-26 12:29:27 -0500
nebbiolo2Linux (Ubuntu 20.04.3 LTS) / x86_64  OK    OK    WARNINGS  UNNEEDED, same version is already published
tokay2Windows Server 2012 R2 Standard / x64  OK    OK    WARNINGS    OK  UNNEEDED, same version is already published
machv2macOS 10.14.6 Mojave / x86_64  OK    OK    WARNINGS    OK  UNNEEDED, same version is already published
Package 70/587HostnameOS / ArchINSTALLBUILDCHECKBUILD BIN
censcyt 1.2.0  (landing page)
Reto Gerber
git_last_commit: b70a2f8
git_last_commit_date: 2021-10-26 13:05:50 -0500
nebbiolo2Linux (Ubuntu 20.04.3 LTS) / x86_64  OK    OK    ERROR  
tokay2Windows Server 2012 R2 Standard / x64  OK    OK    OK    OK  UNNEEDED, same version is already published
machv2macOS 10.14.6 Mojave / x86_64  OK    OK    ERROR    OK  
Package 71/587HostnameOS / ArchINSTALLBUILDCHECKBUILD BIN
Cepo 1.0.0  (landing page)
Hani Jieun Kim
git_last_commit: c43e0f5
git_last_commit_date: 2021-10-26 13:13:44 -0500
nebbiolo2Linux (Ubuntu 20.04.3 LTS) / x86_64  OK    OK    OK  UNNEEDED, same version is already published
tokay2Windows Server 2012 R2 Standard / x64  OK    OK    OK    OK  UNNEEDED, same version is already published
machv2macOS 10.14.6 Mojave / x86_64  OK    OK    OK    OK  UNNEEDED, same version is already published
Package 72/587HostnameOS / ArchINSTALLBUILDCHECKBUILD BIN
CeTF 1.6.0  (landing page)
Carlos Alberto Oliveira de Biagi Junior
git_last_commit: 65513aa
git_last_commit_date: 2021-10-26 12:56:35 -0500
nebbiolo2Linux (Ubuntu 20.04.3 LTS) / x86_64  OK    OK    OK  UNNEEDED, same version is already published
tokay2Windows Server 2012 R2 Standard / x64  OK    OK    OK    OK  UNNEEDED, same version is already published
machv2macOS 10.14.6 Mojave / x86_64  OK    OK    OK    OK  UNNEEDED, same version is already published
Package 73/587HostnameOS / ArchINSTALLBUILDCHECKBUILD BIN
CexoR 1.32.0  (landing page)
Pedro Madrigal
git_last_commit: 422af9e
git_last_commit_date: 2021-10-26 13:12:55 -0500
nebbiolo2Linux (Ubuntu 20.04.3 LTS) / x86_64  OK    OK    OK  UNNEEDED, same version is already published
tokay2Windows Server 2012 R2 Standard / x64  OK    OK    OK    OK  UNNEEDED, same version is already published
machv2macOS 10.14.6 Mojave / x86_64  OK    OK    OK    OK  UNNEEDED, same version is already published
Package 74/587HostnameOS / ArchINSTALLBUILDCHECKBUILD BIN
CHETAH 1.10.0  (landing page)
Jurrian de Kanter
git_last_commit: 03295c9
git_last_commit_date: 2021-10-26 12:50:13 -0500
nebbiolo2Linux (Ubuntu 20.04.3 LTS) / x86_64  OK    ERROR  skipped
tokay2Windows Server 2012 R2 Standard / x64  OK    ERROR  skippedskipped
machv2macOS 10.14.6 Mojave / x86_64  OK    ERROR  skippedskipped
Package 75/587HostnameOS / ArchINSTALLBUILDCHECKBUILD BIN
ChIC 1.14.0  (landing page)
Carmen Maria Livi
git_last_commit: 14ce4c1
git_last_commit_date: 2021-10-26 12:43:56 -0500
nebbiolo2Linux (Ubuntu 20.04.3 LTS) / x86_64  OK    OK    OK  UNNEEDED, same version is already published
tokay2Windows Server 2012 R2 Standard / x64... NOT SUPPORTED ...
machv2macOS 10.14.6 Mojave / x86_64  OK    OK    OK    OK  UNNEEDED, same version is already published
Package 76/587HostnameOS / ArchINSTALLBUILDCHECKBUILD BIN
chimeraviz 1.20.0  (landing page)
Stian Lågstad
git_last_commit: 2e8573d
git_last_commit_date: 2021-10-26 12:31:52 -0500
nebbiolo2Linux (Ubuntu 20.04.3 LTS) / x86_64  OK    OK    OK  UNNEEDED, same version is already published
tokay2Windows Server 2012 R2 Standard / x64  OK    OK    OK    OK  UNNEEDED, same version is already published
machv2macOS 10.14.6 Mojave / x86_64  OK    OK    OK    OK  UNNEEDED, same version is already published
Package 77/587HostnameOS / ArchINSTALLBUILDCHECKBUILD BIN
ChIPanalyser 1.16.0  (landing page)
Patrick C.N. Martin
git_last_commit: b95956a
git_last_commit_date: 2021-10-26 12:37:43 -0500
nebbiolo2Linux (Ubuntu 20.04.3 LTS) / x86_64  OK    OK    OK  UNNEEDED, same version is already published
tokay2Windows Server 2012 R2 Standard / x64  OK    OK    OK    OK  UNNEEDED, same version is already published
machv2macOS 10.14.6 Mojave / x86_64  OK    OK    OK    OK  UNNEEDED, same version is already published
Package 78/587HostnameOS / ArchINSTALLBUILDCHECKBUILD BIN
ChIPComp 1.24.0  (landing page)
Li Chen
git_last_commit: 854d1b5
git_last_commit_date: 2021-10-26 12:22:08 -0500
nebbiolo2Linux (Ubuntu 20.04.3 LTS) / x86_64  OK    OK    OK  UNNEEDED, same version is already published
tokay2Windows Server 2012 R2 Standard / x64  OK    OK    OK    OK  UNNEEDED, same version is already published
machv2macOS 10.14.6 Mojave / x86_64  OK    OK    OK    OK  UNNEEDED, same version is already published
Package 79/587HostnameOS / ArchINSTALLBUILDCHECKBUILD BIN
chipenrich 2.18.0  (landing page)
Raymond G. Cavalcante
git_last_commit: 3af75df
git_last_commit_date: 2021-10-26 12:09:44 -0500
nebbiolo2Linux (Ubuntu 20.04.3 LTS) / x86_64  OK    OK    OK  UNNEEDED, same version is already published
tokay2Windows Server 2012 R2 Standard / x64  OK    OK    OK    OK  UNNEEDED, same version is already published
machv2macOS 10.14.6 Mojave / x86_64  OK    OK    OK    OK  UNNEEDED, same version is already published
Package 80/587HostnameOS / ArchINSTALLBUILDCHECKBUILD BIN
ChIPexoQual 1.18.0  (landing page)
Rene Welch
git_last_commit: 3746d89
git_last_commit_date: 2021-10-26 12:32:36 -0500
nebbiolo2Linux (Ubuntu 20.04.3 LTS) / x86_64  OK    OK    OK  UNNEEDED, same version is already published
tokay2Windows Server 2012 R2 Standard / x64  OK    OK    OK    OK  UNNEEDED, same version is already published
machv2macOS 10.14.6 Mojave / x86_64  OK    OK    OK    OK  UNNEEDED, same version is already published
Package 81/587HostnameOS / ArchINSTALLBUILDCHECKBUILD BIN
ChIPpeakAnno 3.28.0  (landing page)
Jianhong Ou
git_last_commit: da1bfa1
git_last_commit_date: 2021-10-26 11:54:17 -0500
nebbiolo2Linux (Ubuntu 20.04.3 LTS) / x86_64  OK    OK    OK  UNNEEDED, same version is already published
tokay2Windows Server 2012 R2 Standard / x64  OK    OK    OK    OK  UNNEEDED, same version is already published
machv2macOS 10.14.6 Mojave / x86_64  OK    OK    OK    OK  UNNEEDED, same version is already published
Package 82/587HostnameOS / ArchINSTALLBUILDCHECKBUILD BIN
ChIPQC 1.30.0  (landing page)
Tom Carroll , Rory Stark
git_last_commit: 566bb1a
git_last_commit_date: 2021-10-26 12:12:48 -0500
nebbiolo2Linux (Ubuntu 20.04.3 LTS) / x86_64  OK    OK    WARNINGS  UNNEEDED, same version is already published
tokay2Windows Server 2012 R2 Standard / x64  OK    OK    WARNINGS    OK  UNNEEDED, same version is already published
machv2macOS 10.14.6 Mojave / x86_64  OK    OK    WARNINGS    OK  UNNEEDED, same version is already published
Package 83/587HostnameOS / ArchINSTALLBUILDCHECKBUILD BIN
ChIPseeker 1.30.2  (landing page)
Guangchuang Yu
git_last_commit: 80e3fca
git_last_commit_date: 2021-11-10 03:53:57 -0500
nebbiolo2Linux (Ubuntu 20.04.3 LTS) / x86_64  OK    OK    OK  UNNEEDED, same version is already published
tokay2Windows Server 2012 R2 Standard / x64  OK    OK    OK    OK  UNNEEDED, same version is already published
machv2macOS 10.14.6 Mojave / x86_64  OK    OK    OK    OK  UNNEEDED, same version is already published
Package 84/587HostnameOS / ArchINSTALLBUILDCHECKBUILD BIN
chipseq 1.44.0  (landing page)
Bioconductor Package Maintainer
git_last_commit: b64d0d2
git_last_commit_date: 2021-10-26 11:54:04 -0500
nebbiolo2Linux (Ubuntu 20.04.3 LTS) / x86_64  OK    OK    WARNINGS  UNNEEDED, same version is already published
tokay2Windows Server 2012 R2 Standard / x64  OK    OK    WARNINGS    OK  UNNEEDED, same version is already published
machv2macOS 10.14.6 Mojave / x86_64  OK    OK    WARNINGS    OK  UNNEEDED, same version is already published
Package 85/587HostnameOS / ArchINSTALLBUILDCHECKBUILD BIN
ChIPseqR 1.48.0  (landing page)
Peter Humburg
git_last_commit: c68564e
git_last_commit_date: 2021-10-26 11:54:55 -0500
nebbiolo2Linux (Ubuntu 20.04.3 LTS) / x86_64  OK    OK    OK  UNNEEDED, same version is already published
tokay2Windows Server 2012 R2 Standard / x64  OK    OK    OK    OK  UNNEEDED, same version is already published
machv2macOS 10.14.6 Mojave / x86_64  OK    OK    OK    OK  UNNEEDED, same version is already published
Package 86/587HostnameOS / ArchINSTALLBUILDCHECKBUILD BIN
ChromSCape 1.4.0  (landing page)
Pacome Prompsy
git_last_commit: df9f2c5
git_last_commit_date: 2021-10-26 13:03:23 -0500
nebbiolo2Linux (Ubuntu 20.04.3 LTS) / x86_64  OK    OK    OK  UNNEEDED, same version is already published
tokay2Windows Server 2012 R2 Standard / x64  OK    OK    OK    OK  UNNEEDED, same version is already published
machv2macOS 10.14.6 Mojave / x86_64  OK    OK    OK    OK  UNNEEDED, same version is already published
Package 87/587HostnameOS / ArchINSTALLBUILDCHECKBUILD BIN
chromstaR 1.20.2  (landing page)
Aaron Taudt
git_last_commit: b8ef93b
git_last_commit_date: 2021-11-03 04:34:25 -0500
nebbiolo2Linux (Ubuntu 20.04.3 LTS) / x86_64  OK    OK    ERROR  
tokay2Windows Server 2012 R2 Standard / x64  OK    OK    OK    OK  UNNEEDED, same version is already published
machv2macOS 10.14.6 Mojave / x86_64  OK    OK    OK    OK  UNNEEDED, same version is already published
Package 88/587HostnameOS / ArchINSTALLBUILDCHECKBUILD BIN
chromswitch 1.16.0  (landing page)
Selin Jessa
git_last_commit: 0d65abe
git_last_commit_date: 2021-10-26 12:39:46 -0500
nebbiolo2Linux (Ubuntu 20.04.3 LTS) / x86_64  OK    OK    OK  UNNEEDED, same version is already published
tokay2Windows Server 2012 R2 Standard / x64  OK    OK    OK    OK  UNNEEDED, same version is already published
machv2macOS 10.14.6 Mojave / x86_64  OK    OK    OK    OK  UNNEEDED, same version is already published
Package 89/587HostnameOS / ArchINSTALLBUILDCHECKBUILD BIN
chromVAR 1.16.0  (landing page)
Alicia Schep
git_last_commit: f4109be
git_last_commit_date: 2021-10-26 12:38:42 -0500
nebbiolo2Linux (Ubuntu 20.04.3 LTS) / x86_64  OK    OK    OK  UNNEEDED, same version is already published
tokay2Windows Server 2012 R2 Standard / x64  OK    OK    OK    OK  UNNEEDED, same version is already published
machv2macOS 10.14.6 Mojave / x86_64  OK    OK    OK    OK  UNNEEDED, same version is already published
Package 90/587HostnameOS / ArchINSTALLBUILDCHECKBUILD BIN
cicero 1.12.0  (landing page)
Hannah Pliner
git_last_commit: 1991cbd
git_last_commit_date: 2021-10-26 12:47:09 -0500
nebbiolo2Linux (Ubuntu 20.04.3 LTS) / x86_64  OK    OK    OK  UNNEEDED, same version is already published
tokay2Windows Server 2012 R2 Standard / x64  OK    OK    OK    OK  UNNEEDED, same version is already published
machv2macOS 10.14.6 Mojave / x86_64  OK    OK    OK    OK  UNNEEDED, same version is already published
Package 91/587HostnameOS / ArchINSTALLBUILDCHECKBUILD BIN
CINdex 1.22.0  (landing page)
Yuriy Gusev
git_last_commit: c6af6ad
git_last_commit_date: 2021-10-26 12:26:47 -0500
nebbiolo2Linux (Ubuntu 20.04.3 LTS) / x86_64  OK    OK    WARNINGS  UNNEEDED, same version is already published
tokay2Windows Server 2012 R2 Standard / x64  OK    OK    WARNINGS    OK  UNNEEDED, same version is already published
machv2macOS 10.14.6 Mojave / x86_64  OK    OK    WARNINGS    OK  UNNEEDED, same version is already published
Package 92/587HostnameOS / ArchINSTALLBUILDCHECKBUILD BIN
circRNAprofiler 1.8.0  (landing page)
Simona Aufiero
git_last_commit: 92fcc06
git_last_commit_date: 2021-10-26 12:53:01 -0500
nebbiolo2Linux (Ubuntu 20.04.3 LTS) / x86_64  OK    OK    OK  UNNEEDED, same version is already published
tokay2Windows Server 2012 R2 Standard / x64  OK    OK    OK    OK  UNNEEDED, same version is already published
machv2macOS 10.14.6 Mojave / x86_64  OK    OK    OK    OK  UNNEEDED, same version is already published
Package 93/587HostnameOS / ArchINSTALLBUILDCHECKBUILD BIN
CiteFuse 1.6.0  (landing page)
Yingxin Lin
git_last_commit: b774212
git_last_commit_date: 2021-10-26 12:58:54 -0500
nebbiolo2Linux (Ubuntu 20.04.3 LTS) / x86_64  OK    OK    OK  UNNEEDED, same version is already published
tokay2Windows Server 2012 R2 Standard / x64  OK    OK    OK    OK  UNNEEDED, same version is already published
machv2macOS 10.14.6 Mojave / x86_64  OK    OK    OK    OK  UNNEEDED, same version is already published
Package 94/587HostnameOS / ArchINSTALLBUILDCHECKBUILD BIN
ClassifyR 2.14.0  (landing page)
Dario Strbenac
git_last_commit: 133d20a
git_last_commit_date: 2021-10-26 12:15:09 -0500
nebbiolo2Linux (Ubuntu 20.04.3 LTS) / x86_64  OK    OK    OK  UNNEEDED, same version is already published
tokay2Windows Server 2012 R2 Standard / x64  OK    OK    OK    OK  UNNEEDED, same version is already published
machv2macOS 10.14.6 Mojave / x86_64  OK    OK    OK    OK  UNNEEDED, same version is already published
Package 95/587HostnameOS / ArchINSTALLBUILDCHECKBUILD BIN
cleaver 1.32.0  (landing page)
Sebastian Gibb
git_last_commit: 375589c
git_last_commit_date: 2021-10-26 12:08:23 -0500
nebbiolo2Linux (Ubuntu 20.04.3 LTS) / x86_64  OK    OK    OK  UNNEEDED, same version is already published
tokay2Windows Server 2012 R2 Standard / x64  OK    OK    OK    OK  UNNEEDED, same version is already published
machv2macOS 10.14.6 Mojave / x86_64  OK    OK    OK    OK  UNNEEDED, same version is already published
Package 96/587HostnameOS / ArchINSTALLBUILDCHECKBUILD BIN
cliProfiler 1.0.0  (landing page)
You Zhou
git_last_commit: f3e8322
git_last_commit_date: 2021-10-26 13:13:16 -0500
nebbiolo2Linux (Ubuntu 20.04.3 LTS) / x86_64  OK    OK    OK  UNNEEDED, same version is already published
tokay2Windows Server 2012 R2 Standard / x64  OK    OK    OK    OK  UNNEEDED, same version is already published
machv2macOS 10.14.6 Mojave / x86_64  OK    OK    OK    OK  UNNEEDED, same version is already published
Package 97/587HostnameOS / ArchINSTALLBUILDCHECKBUILD BIN
CluMSID 1.10.0  (landing page)
Tobias Depke
git_last_commit: 75609ff
git_last_commit_date: 2021-10-26 12:48:48 -0500
nebbiolo2Linux (Ubuntu 20.04.3 LTS) / x86_64  OK    OK    OK  UNNEEDED, same version is already published
tokay2Windows Server 2012 R2 Standard / x64  OK    OK    OK    OK  UNNEEDED, same version is already published
machv2macOS 10.14.6 Mojave / x86_64  OK    OK    OK    OK  UNNEEDED, same version is already published
Package 98/587HostnameOS / ArchINSTALLBUILDCHECKBUILD BIN
clusterExperiment 2.14.0  (landing page)
Elizabeth Purdom
git_last_commit: c963b95
git_last_commit_date: 2021-10-26 12:28:54 -0500
nebbiolo2Linux (Ubuntu 20.04.3 LTS) / x86_64  OK    OK    WARNINGS  UNNEEDED, same version is already published
tokay2Windows Server 2012 R2 Standard / x64  OK    OK    WARNINGS    OK  UNNEEDED, same version is already published
machv2macOS 10.14.6 Mojave / x86_64  OK    OK    TIMEOUT    OK  
Package 99/587HostnameOS / ArchINSTALLBUILDCHECKBUILD BIN
clustifyr 1.6.0  (landing page)
Rui Fu
git_last_commit: e07d1df
git_last_commit_date: 2021-10-26 12:57:20 -0500
nebbiolo2Linux (Ubuntu 20.04.3 LTS) / x86_64  OK    OK    OK  UNNEEDED, same version is already published
tokay2Windows Server 2012 R2 Standard / x64  OK    OK    OK    OK  UNNEEDED, same version is already published
machv2macOS 10.14.6 Mojave / x86_64  OK    OK    OK    OK  UNNEEDED, same version is already published
Package 100/587HostnameOS / ArchINSTALLBUILDCHECKBUILD BIN
cn.mops 1.40.0  (landing page)
Gundula Povysil
git_last_commit: 498dbf7
git_last_commit_date: 2021-10-26 12:01:20 -0500
nebbiolo2Linux (Ubuntu 20.04.3 LTS) / x86_64  OK    OK    OK  UNNEEDED, same version is already published
tokay2Windows Server 2012 R2 Standard / x64  OK    OK    OK    OK  UNNEEDED, same version is already published
machv2macOS 10.14.6 Mojave / x86_64  OK    OK    OK    OK  UNNEEDED, same version is already published
Package 101/587HostnameOS / ArchINSTALLBUILDCHECKBUILD BIN
CNEr 1.30.0  (landing page)
Ge Tan
git_last_commit: e682f2a
git_last_commit_date: 2021-10-26 12:11:47 -0500
nebbiolo2Linux (Ubuntu 20.04.3 LTS) / x86_64  OK    OK    OK  UNNEEDED, same version is already published
tokay2Windows Server 2012 R2 Standard / x64  OK    OK    WARNINGS    OK  UNNEEDED, same version is already published
machv2macOS 10.14.6 Mojave / x86_64  OK    OK    WARNINGS    OK  UNNEEDED, same version is already published
Package 102/587HostnameOS / ArchINSTALLBUILDCHECKBUILD BIN
CNVPanelizer 1.26.0  (landing page)
Thomas Wolf
git_last_commit: 29442f8
git_last_commit_date: 2021-10-26 12:21:16 -0500
nebbiolo2Linux (Ubuntu 20.04.3 LTS) / x86_64  OK    OK    OK  UNNEEDED, same version is already published
tokay2Windows Server 2012 R2 Standard / x64  OK    OK    OK    OK  UNNEEDED, same version is already published
machv2macOS 10.14.6 Mojave / x86_64  OK    OK    OK    OK  UNNEEDED, same version is already published
Package 103/587HostnameOS / ArchINSTALLBUILDCHECKBUILD BIN
CNVRanger 1.10.0  (landing page)
Ludwig Geistlinger
git_last_commit: 0432434
git_last_commit_date: 2021-10-26 12:49:21 -0500
nebbiolo2Linux (Ubuntu 20.04.3 LTS) / x86_64  OK    OK    OK  UNNEEDED, same version is already published
tokay2Windows Server 2012 R2 Standard / x64  OK    OK    OK    OK  NO, package depends on 'GDSArray' which is not available
machv2macOS 10.14.6 Mojave / x86_64  OK    OK    OK    OK  UNNEEDED, same version is already published
Package 104/587HostnameOS / ArchINSTALLBUILDCHECKBUILD BIN
COCOA 2.8.0  (landing page)
John Lawson
git_last_commit: 30a31c3
git_last_commit_date: 2021-10-26 12:47:47 -0500
nebbiolo2Linux (Ubuntu 20.04.3 LTS) / x86_64  OK    OK    OK  UNNEEDED, same version is already published
tokay2Windows Server 2012 R2 Standard / x64  OK    OK    OK    OK  UNNEEDED, same version is already published
machv2macOS 10.14.6 Mojave / x86_64  OK    OK    OK    OK  UNNEEDED, same version is already published
Package 105/587HostnameOS / ArchINSTALLBUILDCHECKBUILD BIN
CODEX 1.26.0  (landing page)
Yuchao Jiang
git_last_commit: 729fd10
git_last_commit_date: 2021-10-26 12:18:14 -0500
nebbiolo2Linux (Ubuntu 20.04.3 LTS) / x86_64  OK    OK    OK  UNNEEDED, same version is already published
tokay2Windows Server 2012 R2 Standard / x64  OK    OK    OK    OK  UNNEEDED, same version is already published
machv2macOS 10.14.6 Mojave / x86_64  OK    OK    OK    OK  UNNEEDED, same version is already published
Package 106/587HostnameOS / ArchINSTALLBUILDCHECKBUILD BIN
CoGAPS 3.14.0  (landing page)
Elana J. Fertig
git_last_commit: f937a7c
git_last_commit_date: 2021-10-26 11:56:36 -0500
nebbiolo2Linux (Ubuntu 20.04.3 LTS) / x86_64  OK    OK    OK  UNNEEDED, same version is already published
tokay2Windows Server 2012 R2 Standard / x64  OK    OK    OK    OK  UNNEEDED, same version is already published
machv2macOS 10.14.6 Mojave / x86_64  OK    OK    OK    OK  UNNEEDED, same version is already published
Package 107/587HostnameOS / ArchINSTALLBUILDCHECKBUILD BIN
Cogito 1.0.0  (landing page)
Annika Bürger
git_last_commit: 3eb15c7
git_last_commit_date: 2021-10-26 13:13:23 -0500
nebbiolo2Linux (Ubuntu 20.04.3 LTS) / x86_64  OK    OK    OK  UNNEEDED, same version is already published
tokay2Windows Server 2012 R2 Standard / x64  OK    OK    OK    OK  UNNEEDED, same version is already published
machv2macOS 10.14.6 Mojave / x86_64  OK    OK    OK    OK  UNNEEDED, same version is already published
Package 108/587HostnameOS / ArchINSTALLBUILDCHECKBUILD BIN
coMET 1.26.0  (landing page)
Tiphaine Martin
git_last_commit: ed4f33f
git_last_commit_date: 2021-10-26 12:18:16 -0500
nebbiolo2Linux (Ubuntu 20.04.3 LTS) / x86_64  OK    ERROR  skipped
tokay2Windows Server 2012 R2 Standard / x64  OK    ERROR  skippedskipped
machv2macOS 10.14.6 Mojave / x86_64  OK    ERROR  skippedskipped
Package 109/587HostnameOS / ArchINSTALLBUILDCHECKBUILD BIN
compEpiTools 1.28.0  (landing page)
Kamal Kishore
git_last_commit: 7f99015
git_last_commit_date: 2021-10-26 12:15:25 -0500
nebbiolo2Linux (Ubuntu 20.04.3 LTS) / x86_64  OK    OK    ERROR  
tokay2Windows Server 2012 R2 Standard / x64  OK    OK    ERROR    OK  
machv2macOS 10.14.6 Mojave / x86_64  OK    OK    ERROR    OK  
Package 110/587HostnameOS / ArchINSTALLBUILDCHECKBUILD BIN
consensusDE 1.12.0  (landing page)
Ashley J. Waardenberg
git_last_commit: 935d9e9
git_last_commit_date: 2021-10-26 12:47:51 -0500
nebbiolo2Linux (Ubuntu 20.04.3 LTS) / x86_64  OK    OK    OK  UNNEEDED, same version is already published
tokay2Windows Server 2012 R2 Standard / x64  OK    OK    OK    OK  UNNEEDED, same version is already published
machv2macOS 10.14.6 Mojave / x86_64  OK    OK    OK    OK  UNNEEDED, same version is already published
Package 111/587HostnameOS / ArchINSTALLBUILDCHECKBUILD BIN
consensusSeekeR 1.22.0  (landing page)
Astrid Deschenes
git_last_commit: d88164a
git_last_commit_date: 2021-10-26 12:23:47 -0500
nebbiolo2Linux (Ubuntu 20.04.3 LTS) / x86_64  OK    OK    OK  UNNEEDED, same version is already published
tokay2Windows Server 2012 R2 Standard / x64  OK    OK    OK    OK  UNNEEDED, same version is already published
machv2macOS 10.14.6 Mojave / x86_64  OK    OK    OK    OK  UNNEEDED, same version is already published
Package 112/587HostnameOS / ArchINSTALLBUILDCHECKBUILD BIN
contiBAIT 1.22.0  (landing page)
Kieran O'Neill
git_last_commit: 7642d19
git_last_commit_date: 2021-10-26 12:25:24 -0500
nebbiolo2Linux (Ubuntu 20.04.3 LTS) / x86_64  OK    OK    WARNINGS  UNNEEDED, same version is already published
tokay2Windows Server 2012 R2 Standard / x64  OK    OK    WARNINGS    OK  UNNEEDED, same version is already published
machv2macOS 10.14.6 Mojave / x86_64  OK    OK    WARNINGS    OK  UNNEEDED, same version is already published
Package 113/587HostnameOS / ArchINSTALLBUILDCHECKBUILD BIN
copynumber 1.34.0  (landing page)
Gro Nilsen
git_last_commit: 958e926
git_last_commit_date: 2021-10-26 12:07:45 -0500
nebbiolo2Linux (Ubuntu 20.04.3 LTS) / x86_64  OK    OK    OK  UNNEEDED, same version is already published
tokay2Windows Server 2012 R2 Standard / x64  OK    OK    OK    OK  UNNEEDED, same version is already published
machv2macOS 10.14.6 Mojave / x86_64  OK    OK    OK    OK  UNNEEDED, same version is already published
Package 114/587HostnameOS / ArchINSTALLBUILDCHECKBUILD BIN
CopywriteR 2.26.0  (landing page)
Oscar Krijgsman
git_last_commit: 84f6999
git_last_commit_date: 2021-10-26 12:19:59 -0500
nebbiolo2Linux (Ubuntu 20.04.3 LTS) / x86_64  OK    OK    OK  UNNEEDED, same version is already published
tokay2Windows Server 2012 R2 Standard / x64  OK    OK    OK    OK  UNNEEDED, same version is already published
machv2macOS 10.14.6 Mojave / x86_64  OK    OK    OK    OK  UNNEEDED, same version is already published
Package 115/587HostnameOS / ArchINSTALLBUILDCHECKBUILD BIN
CoreGx 1.6.0  (landing page)
Benjamin Haibe-Kains
git_last_commit: 33bef81
git_last_commit_date: 2021-10-26 12:59:39 -0500
nebbiolo2Linux (Ubuntu 20.04.3 LTS) / x86_64  OK    OK    OK  UNNEEDED, same version is already published
tokay2Windows Server 2012 R2 Standard / x64  OK    OK    OK    OK  UNNEEDED, same version is already published
machv2macOS 10.14.6 Mojave / x86_64  OK    OK    OK    OK  UNNEEDED, same version is already published
Package 116/587HostnameOS / ArchINSTALLBUILDCHECKBUILD BIN
coseq 1.18.0  (landing page)
Andrea Rau
git_last_commit: 6db558b
git_last_commit_date: 2021-10-26 12:32:24 -0500
nebbiolo2Linux (Ubuntu 20.04.3 LTS) / x86_64  OK    OK    OK  UNNEEDED, same version is already published
tokay2Windows Server 2012 R2 Standard / x64  OK    OK    OK    OK  UNNEEDED, same version is already published
machv2macOS 10.14.6 Mojave / x86_64  OK    OK    OK    OK  UNNEEDED, same version is already published
Package 117/587HostnameOS / ArchINSTALLBUILDCHECKBUILD BIN
CoverageView 1.32.0  (landing page)
Ernesto Lowy
git_last_commit: fd9a94e
git_last_commit_date: 2021-10-26 12:13:02 -0500
nebbiolo2Linux (Ubuntu 20.04.3 LTS) / x86_64  OK    OK    WARNINGS  UNNEEDED, same version is already published
tokay2Windows Server 2012 R2 Standard / x64... NOT SUPPORTED ...
machv2macOS 10.14.6 Mojave / x86_64  OK    OK    WARNINGS    OK  UNNEEDED, same version is already published
Package 118/587HostnameOS / ArchINSTALLBUILDCHECKBUILD BIN
CRISPRseek 1.34.0  (landing page)
Lihua Julie Zhu
git_last_commit: 11159db
git_last_commit_date: 2021-10-26 12:11:02 -0500
nebbiolo2Linux (Ubuntu 20.04.3 LTS) / x86_64  OK    OK    OK  UNNEEDED, same version is already published
tokay2Windows Server 2012 R2 Standard / x64  OK    OK    ERROR    OK  
machv2macOS 10.14.6 Mojave / x86_64  OK    OK    OK    OK  UNNEEDED, same version is already published
Package 119/587HostnameOS / ArchINSTALLBUILDCHECKBUILD BIN
CrispRVariants 1.22.0  (landing page)
Helen Lindsay
git_last_commit: 74a5dc2
git_last_commit_date: 2021-10-26 12:24:29 -0500
nebbiolo2Linux (Ubuntu 20.04.3 LTS) / x86_64  OK    OK    WARNINGS  UNNEEDED, same version is already published
tokay2Windows Server 2012 R2 Standard / x64  OK    OK    WARNINGS    OK  UNNEEDED, same version is already published
machv2macOS 10.14.6 Mojave / x86_64  OK    OK    WARNINGS    OK  UNNEEDED, same version is already published
Package 120/587HostnameOS / ArchINSTALLBUILDCHECKBUILD BIN
CSAR 1.46.0  (landing page)
Jose M Muino
git_last_commit: 6b0de68
git_last_commit_date: 2021-10-26 11:55:08 -0500
nebbiolo2Linux (Ubuntu 20.04.3 LTS) / x86_64  OK    OK    OK  UNNEEDED, same version is already published
tokay2Windows Server 2012 R2 Standard / x64  OK    OK    OK    OK  UNNEEDED, same version is already published
machv2macOS 10.14.6 Mojave / x86_64  OK    OK    OK    OK  UNNEEDED, same version is already published
Package 121/587HostnameOS / ArchINSTALLBUILDCHECKBUILD BIN
csaw 1.28.0  (landing page)
Aaron Lun
git_last_commit: b68e21d
git_last_commit_date: 2021-10-26 12:17:01 -0500
nebbiolo2Linux (Ubuntu 20.04.3 LTS) / x86_64  OK    OK    OK  UNNEEDED, same version is already published
tokay2Windows Server 2012 R2 Standard / x64  OK    OK    OK    OK  UNNEEDED, same version is already published
machv2macOS 10.14.6 Mojave / x86_64  OK    OK    OK    OK  UNNEEDED, same version is already published
Package 122/587HostnameOS / ArchINSTALLBUILDCHECKBUILD BIN
CSSQ 1.6.0  (landing page)
Fan Lab at Georgia Institute of Technology
git_last_commit: a7b96ca
git_last_commit_date: 2021-10-26 12:56:31 -0500
nebbiolo2Linux (Ubuntu 20.04.3 LTS) / x86_64  OK    OK    OK  UNNEEDED, same version is already published
tokay2Windows Server 2012 R2 Standard / x64  OK    OK    OK    OK  UNNEEDED, same version is already published
machv2macOS 10.14.6 Mojave / x86_64  OK    OK    OK    OK  UNNEEDED, same version is already published
Package 123/587HostnameOS / ArchINSTALLBUILDCHECKBUILD BIN
CTDquerier 2.2.0  (landing page)
Xavier Escribà-Montagut
git_last_commit: a121b76
git_last_commit_date: 2021-10-26 13:07:39 -0500
nebbiolo2Linux (Ubuntu 20.04.3 LTS) / x86_64  OK    OK    WARNINGS  UNNEEDED, same version is already published
tokay2Windows Server 2012 R2 Standard / x64  OK    OK    WARNINGS    OK  UNNEEDED, same version is already published
machv2macOS 10.14.6 Mojave / x86_64  OK    OK    WARNINGS    OK  UNNEEDED, same version is already published
Package 124/587HostnameOS / ArchINSTALLBUILDCHECKBUILD BIN
cummeRbund 2.36.0  (landing page)
Loyal A. Goff
git_last_commit: 36d62b1
git_last_commit_date: 2021-10-26 12:00:39 -0500
nebbiolo2Linux (Ubuntu 20.04.3 LTS) / x86_64  OK    OK    WARNINGS  UNNEEDED, same version is already published
tokay2Windows Server 2012 R2 Standard / x64  OK    OK    WARNINGS    OK  UNNEEDED, same version is already published
machv2macOS 10.14.6 Mojave / x86_64  OK    OK    WARNINGS    OK  UNNEEDED, same version is already published
Package 125/587HostnameOS / ArchINSTALLBUILDCHECKBUILD BIN
customProDB 1.34.0  (landing page)
Xiaojing Wang
git_last_commit: b7cfa9d
git_last_commit_date: 2021-10-26 12:08:26 -0500
nebbiolo2Linux (Ubuntu 20.04.3 LTS) / x86_64  OK    ERROR  skipped
tokay2Windows Server 2012 R2 Standard / x64  OK    OK    OK    OK  UNNEEDED, same version is already published
machv2macOS 10.14.6 Mojave / x86_64  OK    ERROR  skippedskipped
Package 126/587HostnameOS / ArchINSTALLBUILDCHECKBUILD BIN
cydar 1.18.0  (landing page)
Aaron Lun
git_last_commit: 8dd093c
git_last_commit_date: 2021-10-26 12:34:03 -0500
nebbiolo2Linux (Ubuntu 20.04.3 LTS) / x86_64  OK    OK    OK  UNNEEDED, same version is already published
tokay2Windows Server 2012 R2 Standard / x64  OK    OK    OK    OK  UNNEEDED, same version is already published
machv2macOS 10.14.6 Mojave / x86_64  OK    OK    OK    OK  UNNEEDED, same version is already published
Package 127/587HostnameOS / ArchINSTALLBUILDCHECKBUILD BIN
cytoKernel 1.0.0  (landing page)
Tusharkanti Ghosh
git_last_commit: 44dfcc3
git_last_commit_date: 2021-10-26 13:12:39 -0500
nebbiolo2Linux (Ubuntu 20.04.3 LTS) / x86_64  OK    OK    OK  UNNEEDED, same version is already published
tokay2Windows Server 2012 R2 Standard / x64  OK    OK    OK    OK  UNNEEDED, same version is already published
machv2macOS 10.14.6 Mojave / x86_64  OK    OK    OK    OK  UNNEEDED, same version is already published
Package 128/587HostnameOS / ArchINSTALLBUILDCHECKBUILD BIN
cytomapper 1.6.0  (landing page)
Nils Eling
git_last_commit: 72e006f
git_last_commit_date: 2021-10-26 12:58:24 -0500
nebbiolo2Linux (Ubuntu 20.04.3 LTS) / x86_64  OK    OK    OK  UNNEEDED, same version is already published
tokay2Windows Server 2012 R2 Standard / x64  OK    OK    OK    OK  UNNEEDED, same version is already published
machv2macOS 10.14.6 Mojave / x86_64  OK    OK    OK    OK  UNNEEDED, same version is already published
Package 129/587HostnameOS / ArchINSTALLBUILDCHECKBUILD BIN
DAMEfinder 1.6.0  (landing page)
Stephany Orjuela
git_last_commit: a15961a
git_last_commit_date: 2021-10-26 12:56:58 -0500
nebbiolo2Linux (Ubuntu 20.04.3 LTS) / x86_64  OK    OK    OK  UNNEEDED, same version is already published
tokay2Windows Server 2012 R2 Standard / x64  OK    OK    OK    OK  UNNEEDED, same version is already published
machv2macOS 10.14.6 Mojave / x86_64  OK    OK    OK    OK  UNNEEDED, same version is already published
Package 130/587HostnameOS / ArchINSTALLBUILDCHECKBUILD BIN
dasper 1.4.0  (landing page)
David Zhang
git_last_commit: 0ef46a4
git_last_commit_date: 2021-10-26 13:04:45 -0500
nebbiolo2Linux (Ubuntu 20.04.3 LTS) / x86_64  OK    OK    ERROR  
tokay2Windows Server 2012 R2 Standard / x64  OK    OK    ERROR    OK  
machv2macOS 10.14.6 Mojave / x86_64  OK    OK    ERROR    OK  
Package 131/587HostnameOS / ArchINSTALLBUILDCHECKBUILD BIN
debrowser 1.22.2  (landing page)
Alper Kucukural
git_last_commit: 227faa0
git_last_commit_date: 2021-11-08 12:41:29 -0500
nebbiolo2Linux (Ubuntu 20.04.3 LTS) / x86_64  OK    OK    OK  UNNEEDED, same version is already published
tokay2Windows Server 2012 R2 Standard / x64  OK    OK    OK    OK  UNNEEDED, same version is already published
machv2macOS 10.14.6 Mojave / x86_64  OK    OK    OK    OK  UNNEEDED, same version is already published
Package 132/587HostnameOS / ArchINSTALLBUILDCHECKBUILD BIN
DECIPHER 2.22.0  (landing page)
Erik Wright
git_last_commit: 45da5ca
git_last_commit_date: 2021-10-26 12:00:41 -0500
nebbiolo2Linux (Ubuntu 20.04.3 LTS) / x86_64  OK    OK    OK  UNNEEDED, same version is already published
tokay2Windows Server 2012 R2 Standard / x64  OK    OK    OK    OK  UNNEEDED, same version is already published
machv2macOS 10.14.6 Mojave / x86_64  OK    OK    OK    OK  UNNEEDED, same version is already published
Package 133/587HostnameOS / ArchINSTALLBUILDCHECKBUILD BIN
decompTumor2Sig 2.10.0  (landing page)
Rosario M. Piro
git_last_commit: e07e999
git_last_commit_date: 2021-10-26 12:48:26 -0500
nebbiolo2Linux (Ubuntu 20.04.3 LTS) / x86_64  OK    OK    OK  UNNEEDED, same version is already published
tokay2Windows Server 2012 R2 Standard / x64  OK    OK    OK    OK  UNNEEDED, same version is already published
machv2macOS 10.14.6 Mojave / x86_64  OK    OK    OK    OK  UNNEEDED, same version is already published
Package 134/587HostnameOS / ArchINSTALLBUILDCHECKBUILD BIN
deconvR 1.0.1  (landing page)
İrem B. Gündüz
git_last_commit: cda4d8b
git_last_commit_date: 2021-10-28 05:27:39 -0500
nebbiolo2Linux (Ubuntu 20.04.3 LTS) / x86_64  OK    OK    OK  UNNEEDED, same version is already published
tokay2Windows Server 2012 R2 Standard / x64  OK    OK    OK    OK  UNNEEDED, same version is already published
machv2macOS 10.14.6 Mojave / x86_64  OK    OK    OK    OK  UNNEEDED, same version is already published
Package 135/587HostnameOS / ArchINSTALLBUILDCHECKBUILD BIN
DEFormats 1.22.0  (landing page)
Andrzej Oleś
git_last_commit: ff4d252
git_last_commit_date: 2021-10-26 12:26:36 -0500
nebbiolo2Linux (Ubuntu 20.04.3 LTS) / x86_64  OK    OK    OK  UNNEEDED, same version is already published
tokay2Windows Server 2012 R2 Standard / x64  OK    OK    OK    OK  UNNEEDED, same version is already published
machv2macOS 10.14.6 Mojave / x86_64  OK    OK    OK    OK  UNNEEDED, same version is already published
Package 136/587HostnameOS / ArchINSTALLBUILDCHECKBUILD BIN
DegNorm 1.4.0  (landing page)
Ji-Ping Wang
git_last_commit: a1776e6
git_last_commit_date: 2021-10-26 13:00:12 -0500
nebbiolo2Linux (Ubuntu 20.04.3 LTS) / x86_64  OK    OK    OK  UNNEEDED, same version is already published
tokay2Windows Server 2012 R2 Standard / x64  OK    OK    OK    OK  UNNEEDED, same version is already published
machv2macOS 10.14.6 Mojave / x86_64  OK    OK    OK    OK  UNNEEDED, same version is already published
Package 137/587HostnameOS / ArchINSTALLBUILDCHECKBUILD BIN
DEGreport 1.30.0  (landing page)
Lorena Pantano
git_last_commit: a318960
git_last_commit_date: 2021-10-26 12:14:10 -0500
nebbiolo2Linux (Ubuntu 20.04.3 LTS) / x86_64  OK    OK    OK  UNNEEDED, same version is already published
tokay2Windows Server 2012 R2 Standard / x64  OK    OK    OK    OK  UNNEEDED, same version is already published
machv2macOS 10.14.6 Mojave / x86_64  OK    OK    OK    OK  UNNEEDED, same version is already published
Package 138/587HostnameOS / ArchINSTALLBUILDCHECKBUILD BIN
DelayedArray 0.20.0  (landing page)
Hervé Pagès
git_last_commit: 829b529
git_last_commit_date: 2021-10-26 12:31:49 -0500
nebbiolo2Linux (Ubuntu 20.04.3 LTS) / x86_64  OK    OK    WARNINGS  UNNEEDED, same version is already published
tokay2Windows Server 2012 R2 Standard / x64  OK    OK    WARNINGS    OK  UNNEEDED, same version is already published
machv2macOS 10.14.6 Mojave / x86_64  OK    OK    WARNINGS    OK  UNNEEDED, same version is already published
Package 139/587HostnameOS / ArchINSTALLBUILDCHECKBUILD BIN
DelayedDataFrame 1.10.0  (landing page)
Qian Liu
git_last_commit: f7c2365
git_last_commit_date: 2021-10-26 12:48:35 -0500
nebbiolo2Linux (Ubuntu 20.04.3 LTS) / x86_64  OK    OK    OK  UNNEEDED, same version is already published
tokay2Windows Server 2012 R2 Standard / x64  OK    OK    OK    OK  UNNEEDED, same version is already published
machv2macOS 10.14.6 Mojave / x86_64  OK    OK    OK    OK  UNNEEDED, same version is already published
Package 140/587HostnameOS / ArchINSTALLBUILDCHECKBUILD BIN
DelayedMatrixStats 1.16.0  (landing page)
Peter Hickey
git_last_commit: d44a3d7
git_last_commit_date: 2021-10-26 12:39:13 -0500
nebbiolo2Linux (Ubuntu 20.04.3 LTS) / x86_64  OK    OK    OK  UNNEEDED, same version is already published
tokay2Windows Server 2012 R2 Standard / x64  OK    OK    OK    OK  UNNEEDED, same version is already published
machv2macOS 10.14.6 Mojave / x86_64  OK    OK    OK    OK  UNNEEDED, same version is already published
Package 141/587HostnameOS / ArchINSTALLBUILDCHECKBUILD BIN
derfinder 1.28.0  (landing page)
Leonardo Collado-Torres
git_last_commit: 9f12ac9
git_last_commit_date: 2021-10-26 12:16:21 -0500
nebbiolo2Linux (Ubuntu 20.04.3 LTS) / x86_64  OK    OK    OK  UNNEEDED, same version is already published
tokay2Windows Server 2012 R2 Standard / x64  OK    OK    OK    OK  UNNEEDED, same version is already published
machv2macOS 10.14.6 Mojave / x86_64  OK    ERROR  skippedskipped
Package 142/587HostnameOS / ArchINSTALLBUILDCHECKBUILD BIN
derfinderHelper 1.28.0  (landing page)
Leonardo Collado-Torres
git_last_commit: 9047b48
git_last_commit_date: 2021-10-26 12:16:25 -0500
nebbiolo2Linux (Ubuntu 20.04.3 LTS) / x86_64  OK    OK    OK  UNNEEDED, same version is already published
tokay2Windows Server 2012 R2 Standard / x64  OK    OK    OK    OK  UNNEEDED, same version is already published
machv2macOS 10.14.6 Mojave / x86_64  OK    OK    OK    OK  UNNEEDED, same version is already published
Package 143/587HostnameOS / ArchINSTALLBUILDCHECKBUILD BIN
derfinderPlot 1.28.1  (landing page)
Leonardo Collado-Torres
git_last_commit: 62c9d98
git_last_commit_date: 2021-11-22 19:33:33 -0500
nebbiolo2Linux (Ubuntu 20.04.3 LTS) / x86_64  OK    OK    OK  UNNEEDED, same version is already published
tokay2Windows Server 2012 R2 Standard / x64  OK    OK    OK    OK  UNNEEDED, same version is already published
machv2macOS 10.14.6 Mojave / x86_64  OK    OK    OK    OK  UNNEEDED, same version is already published
Package 144/587HostnameOS / ArchINSTALLBUILDCHECKBUILD BIN
DEScan2 1.14.1  (landing page)
Dario Righelli
git_last_commit: 750fd91
git_last_commit_date: 2021-11-18 04:40:05 -0500
nebbiolo2Linux (Ubuntu 20.04.3 LTS) / x86_64  OK    OK    OK  UNNEEDED, same version is already published
tokay2Windows Server 2012 R2 Standard / x64  OK    OK    OK    OK  UNNEEDED, same version is already published
machv2macOS 10.14.6 Mojave / x86_64  OK    OK    OK    OK  UNNEEDED, same version is already published
Package 145/587HostnameOS / ArchINSTALLBUILDCHECKBUILD BIN
DESeq2 1.34.0  (landing page)
Michael Love
git_last_commit: 25d4f74
git_last_commit_date: 2021-10-26 12:06:54 -0500
nebbiolo2Linux (Ubuntu 20.04.3 LTS) / x86_64  OK    OK    OK  UNNEEDED, same version is already published
tokay2Windows Server 2012 R2 Standard / x64  OK    OK    OK    OK  UNNEEDED, same version is already published
machv2macOS 10.14.6 Mojave / x86_64  OK    OK    OK    OK  UNNEEDED, same version is already published
Package 146/587HostnameOS / ArchINSTALLBUILDCHECKBUILD BIN
DEWSeq 1.8.0  (landing page)
bioinformatics team Hentze
git_last_commit: 7686f86
git_last_commit_date: 2021-10-26 12:55:35 -0500
nebbiolo2Linux (Ubuntu 20.04.3 LTS) / x86_64  OK    OK    OK  UNNEEDED, same version is already published
tokay2Windows Server 2012 R2 Standard / x64  OK    OK    OK    OK  UNNEEDED, same version is already published
machv2macOS 10.14.6 Mojave / x86_64  OK    OK    OK    OK  UNNEEDED, same version is already published
Package 147/587HostnameOS / ArchINSTALLBUILDCHECKBUILD BIN
DEXSeq 1.40.0  (landing page)
Alejandro Reyes
git_last_commit: 7d2d639
git_last_commit_date: 2021-10-26 11:59:26 -0500
nebbiolo2Linux (Ubuntu 20.04.3 LTS) / x86_64  OK    OK    OK  UNNEEDED, same version is already published
tokay2Windows Server 2012 R2 Standard / x64  OK    OK    OK    OK  UNNEEDED, same version is already published
machv2macOS 10.14.6 Mojave / x86_64  OK    OK    OK    OK  UNNEEDED, same version is already published
Package 148/587HostnameOS / ArchINSTALLBUILDCHECKBUILD BIN
DiffBind 3.4.1  (landing page)
Rory Stark
git_last_commit: 42ab53c
git_last_commit_date: 2021-12-01 12:01:51 -0500
nebbiolo2Linux (Ubuntu 20.04.3 LTS) / x86_64  OK    OK    OK  YES
tokay2Windows Server 2012 R2 Standard / x64  OK    OK    OK    OK  YES
machv2macOS 10.14.6 Mojave / x86_64  OK    OK    OK    OK  YES
Package 149/587HostnameOS / ArchINSTALLBUILDCHECKBUILD BIN
diffcyt 1.14.0  (landing page)
Lukas M. Weber
git_last_commit: 18cad99
git_last_commit_date: 2021-10-26 12:43:31 -0500
nebbiolo2Linux (Ubuntu 20.04.3 LTS) / x86_64  OK    OK    OK  UNNEEDED, same version is already published
tokay2Windows Server 2012 R2 Standard / x64  OK    OK    OK    OK  UNNEEDED, same version is already published
machv2macOS 10.14.6 Mojave / x86_64  OK    OK    OK    OK  UNNEEDED, same version is already published
Package 150/587HostnameOS / ArchINSTALLBUILDCHECKBUILD BIN
diffHic 1.26.0  (landing page)
Aaron Lun
git_last_commit: 7a9008e
git_last_commit_date: 2021-10-26 12:20:24 -0500
nebbiolo2Linux (Ubuntu 20.04.3 LTS) / x86_64  OK    OK    OK  UNNEEDED, same version is already published
tokay2Windows Server 2012 R2 Standard / x64  OK    OK    OK    OK  UNNEEDED, same version is already published
machv2macOS 10.14.6 Mojave / x86_64  OK    OK    OK    OK  UNNEEDED, same version is already published
Package 151/587HostnameOS / ArchINSTALLBUILDCHECKBUILD BIN
diffloop 1.22.0  (landing page)
Caleb Lareau
git_last_commit: 684b6b0
git_last_commit_date: 2021-10-26 12:27:40 -0500
nebbiolo2Linux (Ubuntu 20.04.3 LTS) / x86_64  OK    OK    OK  UNNEEDED, same version is already published
tokay2Windows Server 2012 R2 Standard / x64  OK    OK    WARNINGS    OK  UNNEEDED, same version is already published
machv2macOS 10.14.6 Mojave / x86_64  OK    OK    OK    OK  UNNEEDED, same version is already published
Package 152/587HostnameOS / ArchINSTALLBUILDCHECKBUILD BIN
diffUTR 1.2.0  (landing page)
Pierre-Luc Germain
git_last_commit: feef7a8
git_last_commit_date: 2021-10-26 13:09:41 -0500
nebbiolo2Linux (Ubuntu 20.04.3 LTS) / x86_64  OK    OK    OK  UNNEEDED, same version is already published
tokay2Windows Server 2012 R2 Standard / x64  OK    OK    OK    OK  UNNEEDED, same version is already published
machv2macOS 10.14.6 Mojave / x86_64  OK    OK    OK    OK  UNNEEDED, same version is already published
Package 153/587HostnameOS / ArchINSTALLBUILDCHECKBUILD BIN
Dino 1.0.0  (landing page)
Jared Brown
git_last_commit: 2809674
git_last_commit_date: 2021-10-26 13:11:09 -0500
nebbiolo2Linux (Ubuntu 20.04.3 LTS) / x86_64  OK    OK    OK  UNNEEDED, same version is already published
tokay2Windows Server 2012 R2 Standard / x64  OK    OK    OK    OK  UNNEEDED, same version is already published
machv2macOS 10.14.6 Mojave / x86_64  OK    OK    OK    OK  UNNEEDED, same version is already published
Package 154/587HostnameOS / ArchINSTALLBUILDCHECKBUILD BIN
DirichletMultinomial 1.36.0  (landing page)
Martin Morgan
git_last_commit: 926baff
git_last_commit_date: 2021-10-26 12:03:07 -0500
nebbiolo2Linux (Ubuntu 20.04.3 LTS) / x86_64  OK    OK    OK  UNNEEDED, same version is already published
tokay2Windows Server 2012 R2 Standard / x64  OK    OK    OK    OK  UNNEEDED, same version is already published
machv2macOS 10.14.6 Mojave / x86_64  OK    OK    OK    OK  UNNEEDED, same version is already published
Package 155/587HostnameOS / ArchINSTALLBUILDCHECKBUILD BIN
DiscoRhythm 1.10.0  (landing page)
Matthew Carlucci
git_last_commit: 5c6091e
git_last_commit_date: 2021-10-26 12:50:49 -0500
nebbiolo2Linux (Ubuntu 20.04.3 LTS) / x86_64  OK    OK    OK  UNNEEDED, same version is already published
tokay2Windows Server 2012 R2 Standard / x64  OK    OK    OK    OK  UNNEEDED, same version is already published
machv2macOS 10.14.6 Mojave / x86_64  OK    OK    OK    OK  UNNEEDED, same version is already published
Package 156/587HostnameOS / ArchINSTALLBUILDCHECKBUILD BIN
dittoSeq 1.6.0  (landing page)
Daniel Bunis
git_last_commit: 55ba253
git_last_commit_date: 2021-10-26 12:57:43 -0500
nebbiolo2Linux (Ubuntu 20.04.3 LTS) / x86_64  OK    OK    OK  UNNEEDED, same version is already published
tokay2Windows Server 2012 R2 Standard / x64  OK    OK    OK    OK  UNNEEDED, same version is already published
machv2macOS 10.14.6 Mojave / x86_64  OK    OK    OK    OK  UNNEEDED, same version is already published
Package 157/587HostnameOS / ArchINSTALLBUILDCHECKBUILD BIN
DMCFB 1.8.0  (landing page)
Farhad Shokoohi
git_last_commit: eab8fbe
git_last_commit_date: 2021-10-26 12:54:46 -0500
nebbiolo2Linux (Ubuntu 20.04.3 LTS) / x86_64  OK    OK    OK  UNNEEDED, same version is already published
tokay2Windows Server 2012 R2 Standard / x64  OK    OK    OK    OK  UNNEEDED, same version is already published
machv2macOS 10.14.6 Mojave / x86_64  OK    OK    OK    OK  UNNEEDED, same version is already published
Package 158/587HostnameOS / ArchINSTALLBUILDCHECKBUILD BIN
DMCHMM 1.16.0  (landing page)
Farhad Shokoohi
git_last_commit: efaf39a
git_last_commit_date: 2021-10-26 12:37:33 -0500
nebbiolo2Linux (Ubuntu 20.04.3 LTS) / x86_64  OK    OK    OK  UNNEEDED, same version is already published
tokay2Windows Server 2012 R2 Standard / x64  OK    OK    WARNINGS    OK  UNNEEDED, same version is already published
machv2macOS 10.14.6 Mojave / x86_64  OK    OK    OK    OK  UNNEEDED, same version is already published
Package 159/587HostnameOS / ArchINSTALLBUILDCHECKBUILD BIN
DMRcaller 1.26.0  (landing page)
Nicolae Radu Zabet
git_last_commit: 164d55c
git_last_commit_date: 2021-10-26 12:19:46 -0500
nebbiolo2Linux (Ubuntu 20.04.3 LTS) / x86_64  OK    OK    OK  UNNEEDED, same version is already published
tokay2Windows Server 2012 R2 Standard / x64  OK    OK    OK    OK  UNNEEDED, same version is already published
machv2macOS 10.14.6 Mojave / x86_64  OK    OK    OK    OK  UNNEEDED, same version is already published
Package 160/587HostnameOS / ArchINSTALLBUILDCHECKBUILD BIN
DMRcate 2.8.0  (landing page)
Tim Peters
git_last_commit: 984cee7
git_last_commit_date: 2021-10-26 12:12:00 -0500
nebbiolo2Linux (Ubuntu 20.04.3 LTS) / x86_64  OK    OK    WARNINGS  UNNEEDED, same version is already published
tokay2Windows Server 2012 R2 Standard / x64  OK    OK    ERROR    OK  
machv2macOS 10.14.6 Mojave / x86_64  OK    OK    ERROR    OK  
Package 161/587HostnameOS / ArchINSTALLBUILDCHECKBUILD BIN
dmrseq 1.14.0  (landing page)
Keegan Korthauer
git_last_commit: ae24c3a
git_last_commit_date: 2021-10-26 12:42:12 -0500
nebbiolo2Linux (Ubuntu 20.04.3 LTS) / x86_64  OK    OK    WARNINGS  UNNEEDED, same version is already published
tokay2Windows Server 2012 R2 Standard / x64  OK    OK    WARNINGS    OK  UNNEEDED, same version is already published
machv2macOS 10.14.6 Mojave / x86_64  OK    OK    WARNINGS    OK  UNNEEDED, same version is already published
Package 162/587HostnameOS / ArchINSTALLBUILDCHECKBUILD BIN
doseR 1.10.0  (landing page)
ake.vastermark
git_last_commit: 48979e0
git_last_commit_date: 2021-10-26 12:49:42 -0500
nebbiolo2Linux (Ubuntu 20.04.3 LTS) / x86_64  OK    OK    OK  UNNEEDED, same version is already published
tokay2Windows Server 2012 R2 Standard / x64  OK    OK    OK    OK  UNNEEDED, same version is already published
machv2macOS 10.14.6 Mojave / x86_64  OK    OK    OK    OK  UNNEEDED, same version is already published
Package 163/587HostnameOS / ArchINSTALLBUILDCHECKBUILD BIN
DRIMSeq 1.22.0  (landing page)
Malgorzata Nowicka
git_last_commit: a22c59b
git_last_commit_date: 2021-10-26 12:26:21 -0500
nebbiolo2Linux (Ubuntu 20.04.3 LTS) / x86_64  OK    OK    WARNINGS  UNNEEDED, same version is already published
tokay2Windows Server 2012 R2 Standard / x64  OK    OK    WARNINGS    OK  UNNEEDED, same version is already published
machv2macOS 10.14.6 Mojave / x86_64  OK    OK    WARNINGS    OK  UNNEEDED, same version is already published
Package 164/587HostnameOS / ArchINSTALLBUILDCHECKBUILD BIN
DropletUtils 1.14.1  (landing page)
Aaron Lun
git_last_commit: 47aaa50
git_last_commit_date: 2021-11-08 02:52:46 -0500
nebbiolo2Linux (Ubuntu 20.04.3 LTS) / x86_64  OK    OK    OK  UNNEEDED, same version is already published
tokay2Windows Server 2012 R2 Standard / x64  OK    OK    OK    OK  UNNEEDED, same version is already published
machv2macOS 10.14.6 Mojave / x86_64  OK    OK    OK    OK  UNNEEDED, same version is already published
Package 165/587HostnameOS / ArchINSTALLBUILDCHECKBUILD BIN
drugTargetInteractions 1.2.0  (landing page)
Thomas Girke
git_last_commit: 0c4904f
git_last_commit_date: 2021-10-26 13:08:09 -0500
nebbiolo2Linux (Ubuntu 20.04.3 LTS) / x86_64  OK    OK    OK  UNNEEDED, same version is already published
tokay2Windows Server 2012 R2 Standard / x64  OK    OK    OK    OK  NO, package depends on 'UniProt.ws' which is not available
machv2macOS 10.14.6 Mojave / x86_64  OK    OK    OK    OK  UNNEEDED, same version is already published
Package 166/587HostnameOS / ArchINSTALLBUILDCHECKBUILD BIN
dStruct 1.0.0  (landing page)
Krishna Choudhary
git_last_commit: 55b954a
git_last_commit_date: 2021-10-26 13:10:53 -0500
nebbiolo2Linux (Ubuntu 20.04.3 LTS) / x86_64  OK    OK    OK  UNNEEDED, same version is already published
tokay2Windows Server 2012 R2 Standard / x64  OK    OK    OK    OK  UNNEEDED, same version is already published
machv2macOS 10.14.6 Mojave / x86_64  OK    OK    OK    OK  UNNEEDED, same version is already published
Package 167/587HostnameOS / ArchINSTALLBUILDCHECKBUILD BIN
easyRNASeq 2.30.0  (landing page)
Nicolas Delhomme
git_last_commit: deeb59e
git_last_commit_date: 2021-10-26 12:01:41 -0500
nebbiolo2Linux (Ubuntu 20.04.3 LTS) / x86_64  OK    OK    ERROR  
tokay2Windows Server 2012 R2 Standard / x64  OK    OK    OK    OK  UNNEEDED, same version is already published
machv2macOS 10.14.6 Mojave / x86_64  OK    OK    ERROR    OK  
Package 168/587HostnameOS / ArchINSTALLBUILDCHECKBUILD BIN
eegc 1.20.0  (landing page)
Xiaoyuan Zhou
git_last_commit: fdab2cb
git_last_commit_date: 2021-10-26 12:29:44 -0500
nebbiolo2Linux (Ubuntu 20.04.3 LTS) / x86_64  OK    OK    WARNINGS  UNNEEDED, same version is already published
tokay2Windows Server 2012 R2 Standard / x64  OK    OK    WARNINGS    OK  UNNEEDED, same version is already published
machv2macOS 10.14.6 Mojave / x86_64  OK    OK    WARNINGS    OK  UNNEEDED, same version is already published
Package 169/587HostnameOS / ArchINSTALLBUILDCHECKBUILD BIN
eisaR 1.6.0  (landing page)
Michael Stadler
git_last_commit: e42ce13
git_last_commit_date: 2021-10-26 12:57:58 -0500
nebbiolo2Linux (Ubuntu 20.04.3 LTS) / x86_64  OK    OK    OK  UNNEEDED, same version is already published
tokay2Windows Server 2012 R2 Standard / x64  OK    OK    OK    OK  UNNEEDED, same version is already published
machv2macOS 10.14.6 Mojave / x86_64  OK    OK    OK    OK  UNNEEDED, same version is already published
Package 170/587HostnameOS / ArchINSTALLBUILDCHECKBUILD BIN
ELMER 2.18.0  (landing page)
Tiago Chedraoui Silva
git_last_commit: b116994
git_last_commit_date: 2021-10-26 12:20:53 -0500
nebbiolo2Linux (Ubuntu 20.04.3 LTS) / x86_64  OK    OK    OK  UNNEEDED, same version is already published
tokay2Windows Server 2012 R2 Standard / x64  OK    OK    OK    OK  UNNEEDED, same version is already published
machv2macOS 10.14.6 Mojave / x86_64  OK    OK    OK    OK  UNNEEDED, same version is already published
Package 171/587HostnameOS / ArchINSTALLBUILDCHECKBUILD BIN
ENCODExplorer 2.20.0  (landing page)
Charles Joly Beauparlant
git_last_commit: 5a12d2d
git_last_commit_date: 2021-10-26 12:20:28 -0500
nebbiolo2Linux (Ubuntu 20.04.3 LTS) / x86_64  OK    OK    ERROR  
tokay2Windows Server 2012 R2 Standard / x64  OK    OK    ERROR    OK  
machv2macOS 10.14.6 Mojave / x86_64  OK    OK    ERROR    OK  
Package 172/587HostnameOS / ArchINSTALLBUILDCHECKBUILD BIN
enhancerHomologSearch 1.0.0  (landing page)
Jianhong Ou
git_last_commit: 46463b4
git_last_commit_date: 2021-10-26 13:11:45 -0500
nebbiolo2Linux (Ubuntu 20.04.3 LTS) / x86_64  OK    OK    OK  UNNEEDED, same version is already published
tokay2Windows Server 2012 R2 Standard / x64  OK    OK    OK    OK  UNNEEDED, same version is already published
machv2macOS 10.14.6 Mojave / x86_64  OK    OK    OK    OK  UNNEEDED, same version is already published
Package 173/587HostnameOS / ArchINSTALLBUILDCHECKBUILD BIN
ENmix 1.30.0  (landing page)
Zongli Xu
git_last_commit: 2b8095d
git_last_commit_date: 2021-10-26 12:20:15 -0500
nebbiolo2Linux (Ubuntu 20.04.3 LTS) / x86_64  OK    OK    OK  UNNEEDED, same version is already published
tokay2Windows Server 2012 R2 Standard / x64  OK    OK    OK    OK  UNNEEDED, same version is already published
machv2macOS 10.14.6 Mojave / x86_64  OK    OK    OK    OK  UNNEEDED, same version is already published
Package 174/587HostnameOS / ArchINSTALLBUILDCHECKBUILD BIN
EnrichmentBrowser 2.24.0  (landing page)
Ludwig Geistlinger
git_last_commit: c4d8fa3
git_last_commit_date: 2021-10-26 12:15:55 -0500
nebbiolo2Linux (Ubuntu 20.04.3 LTS) / x86_64  OK    OK    OK  UNNEEDED, same version is already published
tokay2Windows Server 2012 R2 Standard / x64  OK    OK    OK    OK  UNNEEDED, same version is already published
machv2macOS 10.14.6 Mojave / x86_64  OK    OK    OK    OK  UNNEEDED, same version is already published
Package 175/587HostnameOS / ArchINSTALLBUILDCHECKBUILD BIN
enrichTF 1.10.0  (landing page)
Zheng Wei
git_last_commit: bc4115f
git_last_commit_date: 2021-10-26 12:51:43 -0500
nebbiolo2Linux (Ubuntu 20.04.3 LTS) / x86_64  OK    OK    OK  UNNEEDED, same version is already published
tokay2Windows Server 2012 R2 Standard / x64  OK    OK    OK    OK  UNNEEDED, same version is already published
machv2macOS 10.14.6 Mojave / x86_64  OK    OK    OK    OK  UNNEEDED, same version is already published
Package 176/587HostnameOS / ArchINSTALLBUILDCHECKBUILD BIN
ensembldb 2.18.2  (landing page)
Johannes Rainer
git_last_commit: a633cec
git_last_commit_date: 2021-11-08 10:02:00 -0500
nebbiolo2Linux (Ubuntu 20.04.3 LTS) / x86_64  OK    OK    OK  UNNEEDED, same version is already published
tokay2Windows Server 2012 R2 Standard / x64  OK    OK    OK    OK  UNNEEDED, same version is already published
machv2macOS 10.14.6 Mojave / x86_64  OK    OK    OK    OK  UNNEEDED, same version is already published
Package 177/587HostnameOS / ArchINSTALLBUILDCHECKBUILD BIN
ensemblVEP 1.36.0  (landing page)
Bioconductor Package Maintainer
git_last_commit: 0564e56
git_last_commit_date: 2021-10-26 12:05:50 -0500
nebbiolo2Linux (Ubuntu 20.04.3 LTS) / x86_64  OK    OK    OK  UNNEEDED, same version is already published
tokay2Windows Server 2012 R2 Standard / x64... NOT SUPPORTED ...
machv2macOS 10.14.6 Mojave / x86_64  OK    OK    OK    OK  UNNEEDED, same version is already published
Package 178/587HostnameOS / ArchINSTALLBUILDCHECKBUILD BIN
epigenomix 1.34.0  (landing page)
Hans-Ulrich Klein
git_last_commit: 11b683e
git_last_commit_date: 2021-10-26 12:07:06 -0500
nebbiolo2Linux (Ubuntu 20.04.3 LTS) / x86_64  OK    OK    OK  UNNEEDED, same version is already published
tokay2Windows Server 2012 R2 Standard / x64  OK    OK    OK    OK  UNNEEDED, same version is already published
machv2macOS 10.14.6 Mojave / x86_64  OK    OK    OK    OK  UNNEEDED, same version is already published
Package 179/587HostnameOS / ArchINSTALLBUILDCHECKBUILD BIN
epigraHMM 1.2.0  (landing page)
Pedro Baldoni
git_last_commit: 57467ee
git_last_commit_date: 2021-10-26 13:10:21 -0500
nebbiolo2Linux (Ubuntu 20.04.3 LTS) / x86_64  OK    OK    OK  UNNEEDED, same version is already published
tokay2Windows Server 2012 R2 Standard / x64  OK    OK    OK    OK  UNNEEDED, same version is already published
machv2macOS 10.14.6 Mojave / x86_64  OK    OK    OK    OK  UNNEEDED, same version is already published
Package 180/587HostnameOS / ArchINSTALLBUILDCHECKBUILD BIN
epihet 1.10.0  (landing page)
Xiaowen Chen
git_last_commit: 59ace58
git_last_commit_date: 2021-10-26 12:48:37 -0500
nebbiolo2Linux (Ubuntu 20.04.3 LTS) / x86_64  OK    OK    OK  UNNEEDED, same version is already published
tokay2Windows Server 2012 R2 Standard / x64  OK    OK    OK    OK  UNNEEDED, same version is already published
machv2macOS 10.14.6 Mojave / x86_64  OK    OK    OK    OK  UNNEEDED, same version is already published
Package 181/587HostnameOS / ArchINSTALLBUILDCHECKBUILD BIN
epistack 1.0.0  (landing page)
DEVAILLY Guillaume
git_last_commit: fe0a920
git_last_commit_date: 2021-10-26 13:13:25 -0500
nebbiolo2Linux (Ubuntu 20.04.3 LTS) / x86_64  OK    OK    OK  UNNEEDED, same version is already published
tokay2Windows Server 2012 R2 Standard / x64  OK    OK    OK    OK  UNNEEDED, same version is already published
machv2macOS 10.14.6 Mojave / x86_64  OK    OK    OK    OK  UNNEEDED, same version is already published
Package 182/587HostnameOS / ArchINSTALLBUILDCHECKBUILD BIN
EpiTxDb 1.6.0  (landing page)
Felix G.M. Ernst
git_last_commit: 18f60f3
git_last_commit_date: 2021-10-26 12:58:00 -0500
nebbiolo2Linux (Ubuntu 20.04.3 LTS) / x86_64  OK    OK    OK  UNNEEDED, same version is already published
tokay2Windows Server 2012 R2 Standard / x64  OK    OK    OK    OK  UNNEEDED, same version is already published
machv2macOS 10.14.6 Mojave / x86_64  OK    OK    OK    OK  UNNEEDED, same version is already published
Package 183/587HostnameOS / ArchINSTALLBUILDCHECKBUILD BIN
epivizr 2.24.0  (landing page)
Hector Corrada Bravo
git_last_commit: 3199fac
git_last_commit_date: 2021-10-26 12:10:18 -0500
nebbiolo2Linux (Ubuntu 20.04.3 LTS) / x86_64  OK    OK    OK  UNNEEDED, same version is already published
tokay2Windows Server 2012 R2 Standard / x64  OK    OK    OK    OK  UNNEEDED, same version is already published
machv2macOS 10.14.6 Mojave / x86_64  OK    OK    OK    OK  UNNEEDED, same version is already published
Package 184/587HostnameOS / ArchINSTALLBUILDCHECKBUILD BIN
epivizrData 1.22.0  (landing page)
Hector Corrada Bravo
git_last_commit: 2f00af5
git_last_commit_date: 2021-10-26 12:27:38 -0500
nebbiolo2Linux (Ubuntu 20.04.3 LTS) / x86_64  OK    OK    OK  UNNEEDED, same version is already published
tokay2Windows Server 2012 R2 Standard / x64  OK    OK    OK    OK  UNNEEDED, same version is already published
machv2macOS 10.14.6 Mojave / x86_64  OK    OK    OK    OK  UNNEEDED, same version is already published
Package 185/587HostnameOS / ArchINSTALLBUILDCHECKBUILD BIN
epivizrStandalone 1.22.0  (landing page)
Hector Corrada Bravo
git_last_commit: f6cc682
git_last_commit_date: 2021-10-26 12:27:54 -0500
nebbiolo2Linux (Ubuntu 20.04.3 LTS) / x86_64  OK    OK    OK  UNNEEDED, same version is already published
tokay2Windows Server 2012 R2 Standard / x64  OK    OK    OK    OK  UNNEEDED, same version is already published
machv2macOS 10.14.6 Mojave / x86_64  OK    OK    OK    OK  UNNEEDED, same version is already published
Package 186/587HostnameOS / ArchINSTALLBUILDCHECKBUILD BIN
erma 1.10.0  (landing page)
VJ Carey
git_last_commit: 8ff4f3c
git_last_commit_date: 2021-10-26 12:21:07 -0500
nebbiolo2Linux (Ubuntu 20.04.3 LTS) / x86_64  OK    OK    OK  UNNEEDED, same version is already published
tokay2Windows Server 2012 R2 Standard / x64  OK    OK    OK    OK  UNNEEDED, same version is already published
machv2macOS 10.14.6 Mojave / x86_64  OK    OK    OK    OK  UNNEEDED, same version is already published
Package 187/587HostnameOS / ArchINSTALLBUILDCHECKBUILD BIN
esATAC 1.16.0  (landing page)
Zheng Wei
git_last_commit: 094b015
git_last_commit_date: 2021-10-26 12:40:03 -0500
nebbiolo2Linux (Ubuntu 20.04.3 LTS) / x86_64  OK    OK    OK  UNNEEDED, same version is already published
tokay2Windows Server 2012 R2 Standard / x64  OK    OK    OK    OK  UNNEEDED, same version is already published
machv2macOS 10.14.6 Mojave / x86_64  OK    OK    OK    OK  UNNEEDED, same version is already published
Package 188/587HostnameOS / ArchINSTALLBUILDCHECKBUILD BIN
EventPointer 3.2.0  (landing page)
Juan A. Ferrer-Bonsoms
git_last_commit: a608b07
git_last_commit_date: 2021-10-26 12:33:23 -0500
nebbiolo2Linux (Ubuntu 20.04.3 LTS) / x86_64  OK    OK    OK  UNNEEDED, same version is already published
tokay2Windows Server 2012 R2 Standard / x64  OK    OK    OK    OK  UNNEEDED, same version is already published
machv2macOS 10.14.6 Mojave / x86_64  OK    OK    OK    OK  UNNEEDED, same version is already published
Package 189/587HostnameOS / ArchINSTALLBUILDCHECKBUILD BIN
exomePeak2 1.6.0  (landing page)
Zhen Wei
git_last_commit: 50ec4d5
git_last_commit_date: 2021-10-26 12:57:41 -0500
nebbiolo2Linux (Ubuntu 20.04.3 LTS) / x86_64  OK    OK    WARNINGS  UNNEEDED, same version is already published
tokay2Windows Server 2012 R2 Standard / x64  OK    OK    WARNINGS    OK  UNNEEDED, same version is already published
machv2macOS 10.14.6 Mojave / x86_64  OK    OK    WARNINGS    OK  UNNEEDED, same version is already published
Package 190/587HostnameOS / ArchINSTALLBUILDCHECKBUILD BIN
ExperimentHub 2.2.0  (landing page)
Bioconductor Package Maintainer
git_last_commit: b6b9dbb
git_last_commit_date: 2021-10-26 12:25:51 -0500
nebbiolo2Linux (Ubuntu 20.04.3 LTS) / x86_64  OK    OK    OK  UNNEEDED, same version is already published
tokay2Windows Server 2012 R2 Standard / x64  OK    OK    OK    OK  UNNEEDED, same version is already published
machv2macOS 10.14.6 Mojave / x86_64  OK    OK    OK    OK  UNNEEDED, same version is already published
Package 191/587HostnameOS / ArchINSTALLBUILDCHECKBUILD BIN
ExperimentHubData 1.20.1  (landing page)
Bioconductor Package Maintainer
git_last_commit: 6c862d8
git_last_commit_date: 2021-11-24 13:02:50 -0500
nebbiolo2Linux (Ubuntu 20.04.3 LTS) / x86_64  OK    OK    OK  UNNEEDED, same version is already published
tokay2Windows Server 2012 R2 Standard / x64  OK    OK    OK    OK  UNNEEDED, same version is already published
machv2macOS 10.14.6 Mojave / x86_64  OK    OK    OK    OK  UNNEEDED, same version is already published
Package 192/587HostnameOS / ArchINSTALLBUILDCHECKBUILD BIN
ExperimentSubset 1.4.0  (landing page)
Irzam Sarfraz
git_last_commit: 1c9d547
git_last_commit_date: 2021-10-26 13:03:55 -0500
nebbiolo2Linux (Ubuntu 20.04.3 LTS) / x86_64  OK    OK    OK  UNNEEDED, same version is already published
tokay2Windows Server 2012 R2 Standard / x64  OK    OK    OK    OK  UNNEEDED, same version is already published
machv2macOS 10.14.6 Mojave / x86_64  OK    OK    OK    OK  UNNEEDED, same version is already published
Package 193/587HostnameOS / ArchINSTALLBUILDCHECKBUILD BIN
ExploreModelMatrix 1.6.0  (landing page)
Charlotte Soneson
git_last_commit: 0b09f48
git_last_commit_date: 2021-10-26 12:58:37 -0500
nebbiolo2Linux (Ubuntu 20.04.3 LTS) / x86_64  OK    OK    OK  UNNEEDED, same version is already published
tokay2Windows Server 2012 R2 Standard / x64  OK    OK    OK    OK  UNNEEDED, same version is already published
machv2macOS 10.14.6 Mojave / x86_64  OK    OK    OK    OK  UNNEEDED, same version is already published
Package 194/587HostnameOS / ArchINSTALLBUILDCHECKBUILD BIN
ExpressionAtlas 1.22.0  (landing page)
Pedro Madrigal
git_last_commit: 074eebd
git_last_commit_date: 2021-10-26 12:25:33 -0500
nebbiolo2Linux (Ubuntu 20.04.3 LTS) / x86_64  OK    OK    OK  UNNEEDED, same version is already published
tokay2Windows Server 2012 R2 Standard / x64  OK    OK    OK    OK  UNNEEDED, same version is already published
machv2macOS 10.14.6 Mojave / x86_64  OK    OK    OK    OK  UNNEEDED, same version is already published
Package 195/587HostnameOS / ArchINSTALLBUILDCHECKBUILD BIN
FastqCleaner 1.12.0  (landing page)
Leandro Roser
git_last_commit: 8368d47
git_last_commit_date: 2021-10-26 12:45:04 -0500
nebbiolo2Linux (Ubuntu 20.04.3 LTS) / x86_64  OK    OK    OK  UNNEEDED, same version is already published
tokay2Windows Server 2012 R2 Standard / x64  OK    OK    OK    OK  UNNEEDED, same version is already published
machv2macOS 10.14.6 Mojave / x86_64  OK    OK    OK    OK  UNNEEDED, same version is already published
Package 196/587HostnameOS / ArchINSTALLBUILDCHECKBUILD BIN
fastseg 1.40.0  (landing page)
Guenter Klambauer
git_last_commit: e78ee7a
git_last_commit_date: 2021-10-26 12:01:23 -0500
nebbiolo2Linux (Ubuntu 20.04.3 LTS) / x86_64  OK    OK    WARNINGS  UNNEEDED, same version is already published
tokay2Windows Server 2012 R2 Standard / x64  OK    OK    WARNINGS    OK  UNNEEDED, same version is already published
machv2macOS 10.14.6 Mojave / x86_64  OK    OK    WARNINGS    OK  UNNEEDED, same version is already published
Package 197/587HostnameOS / ArchINSTALLBUILDCHECKBUILD BIN
fCCAC 1.20.0  (landing page)
Pedro Madrigal
git_last_commit: bb89ba7
git_last_commit_date: 2021-10-26 12:31:23 -0500
nebbiolo2Linux (Ubuntu 20.04.3 LTS) / x86_64  OK    OK    OK  UNNEEDED, same version is already published
tokay2Windows Server 2012 R2 Standard / x64  OK    OK    OK    OK  UNNEEDED, same version is already published
machv2macOS 10.14.6 Mojave / x86_64  OK    OK    OK    OK  UNNEEDED, same version is already published
Package 198/587HostnameOS / ArchINSTALLBUILDCHECKBUILD BIN
FilterFFPE 1.4.0  (landing page)
Lanying Wei
git_last_commit: 6dffc7d
git_last_commit_date: 2021-10-26 13:02:40 -0500
nebbiolo2Linux (Ubuntu 20.04.3 LTS) / x86_64  OK    OK    OK  UNNEEDED, same version is already published
tokay2Windows Server 2012 R2 Standard / x64  OK    OK    OK    OK  UNNEEDED, same version is already published
machv2macOS 10.14.6 Mojave / x86_64  OK    OK    OK    OK  UNNEEDED, same version is already published
Package 199/587HostnameOS / ArchINSTALLBUILDCHECKBUILD BIN
FindIT2 1.0.2  (landing page)
Guandong Shang
git_last_commit: af8aa7b
git_last_commit_date: 2021-11-23 08:01:16 -0500
nebbiolo2Linux (Ubuntu 20.04.3 LTS) / x86_64  OK    OK    OK  UNNEEDED, same version is already published
tokay2Windows Server 2012 R2 Standard / x64  OK    OK    OK    OK  UNNEEDED, same version is already published
machv2macOS 10.14.6 Mojave / x86_64  OK    OK    OK    OK  UNNEEDED, same version is already published
Package 200/587HostnameOS / ArchINSTALLBUILDCHECKBUILD BIN
FindMyFriends 1.24.0  (landing page)
Thomas Lin Pedersen
git_last_commit: 5660a60
git_last_commit_date: 2021-10-26 12:22:45 -0500
nebbiolo2Linux (Ubuntu 20.04.3 LTS) / x86_64  ERROR    ERROR  skipped
tokay2Windows Server 2012 R2 Standard / x64  ERROR    ERROR  skippedskipped
machv2macOS 10.14.6 Mojave / x86_64  ERROR    ERROR  skippedskipped
Package 201/587HostnameOS / ArchINSTALLBUILDCHECKBUILD BIN
fishpond 2.0.1  (landing page)
Michael Love
git_last_commit: 64edeb7
git_last_commit_date: 2021-11-30 14:41:31 -0500
nebbiolo2Linux (Ubuntu 20.04.3 LTS) / x86_64  OK    OK    OK  YES
tokay2Windows Server 2012 R2 Standard / x64  OK    OK    OK    OK  YES
machv2macOS 10.14.6 Mojave / x86_64  OK    OK    OK    OK  YES
Package 202/587HostnameOS / ArchINSTALLBUILDCHECKBUILD BIN
FLAMES 1.0.2  (landing page)
Voogd Oliver
git_last_commit: e96c59c
git_last_commit_date: 2021-11-03 18:27:48 -0500
nebbiolo2Linux (Ubuntu 20.04.3 LTS) / x86_64  OK    OK    OK  UNNEEDED, same version is already published
tokay2Windows Server 2012 R2 Standard / x64  OK    OK    OK    OK  UNNEEDED, same version is already published
machv2macOS 10.14.6 Mojave / x86_64  OK    OK    OK    OK  UNNEEDED, same version is already published
Package 203/587HostnameOS / ArchINSTALLBUILDCHECKBUILD BIN
flowCore 2.6.0  (landing page)
Mike Jiang
git_last_commit: 947b975
git_last_commit_date: 2021-10-26 11:50:30 -0500
nebbiolo2Linux (Ubuntu 20.04.3 LTS) / x86_64  OK    OK    OK  UNNEEDED, same version is already published
tokay2Windows Server 2012 R2 Standard / x64  OK    OK    OK    OK  UNNEEDED, same version is already published
machv2macOS 10.14.6 Mojave / x86_64  OK    OK    OK    OK  UNNEEDED, same version is already published
Package 204/587HostnameOS / ArchINSTALLBUILDCHECKBUILD BIN
flowWorkspace 4.6.0  (landing page)
Greg Finak , Mike Jiang
git_last_commit: 60bc06d
git_last_commit_date: 2021-10-26 11:59:12 -0500
nebbiolo2Linux (Ubuntu 20.04.3 LTS) / x86_64  OK    OK    WARNINGS  UNNEEDED, same version is already published
tokay2Windows Server 2012 R2 Standard / x64  OK    OK    WARNINGS    OK  UNNEEDED, same version is already published
machv2macOS 10.14.6 Mojave / x86_64  OK    OK    WARNINGS    OK  UNNEEDED, same version is already published
Package 205/587HostnameOS / ArchINSTALLBUILDCHECKBUILD BIN
FRASER 1.6.0  (landing page)
Christian Mertes
git_last_commit: fa070e3
git_last_commit_date: 2021-10-26 12:59:14 -0500
nebbiolo2Linux (Ubuntu 20.04.3 LTS) / x86_64  OK    OK    OK  UNNEEDED, same version is already published
tokay2Windows Server 2012 R2 Standard / x64  OK    OK    OK    OK  UNNEEDED, same version is already published
machv2macOS 10.14.6 Mojave / x86_64  OK    OK    OK    OK  UNNEEDED, same version is already published
Package 206/587HostnameOS / ArchINSTALLBUILDCHECKBUILD BIN
GA4GHclient 1.18.0  (landing page)
Welliton Souza
git_last_commit: c427dfd
git_last_commit_date: 2021-10-26 12:34:05 -0500
nebbiolo2Linux (Ubuntu 20.04.3 LTS) / x86_64  OK    OK    OK  UNNEEDED, same version is already published
tokay2Windows Server 2012 R2 Standard / x64  OK    OK    OK    OK  UNNEEDED, same version is already published
machv2macOS 10.14.6 Mojave / x86_64  OK    OK    OK    OK  UNNEEDED, same version is already published
Package 207/587HostnameOS / ArchINSTALLBUILDCHECKBUILD BIN
GA4GHshiny 1.16.0  (landing page)
Welliton Souza
git_last_commit: 648de55
git_last_commit_date: 2021-10-26 12:35:32 -0500
nebbiolo2Linux (Ubuntu 20.04.3 LTS) / x86_64  OK    OK    OK  UNNEEDED, same version is already published
tokay2Windows Server 2012 R2 Standard / x64  OK